BEGIN:VCALENDAR
VERSION:2.0
PRODID:-//Seattle Opera Guild - ECPv6.15.20//NONSGML v1.0//EN
CALSCALE:GREGORIAN
METHOD:PUBLISH
X-ORIGINAL-URL:https://seattleoperaguild.org
X-WR-CALDESC:Events for Seattle Opera Guild
REFRESH-INTERVAL;VALUE=DURATION:PT1H
X-Robots-Tag:noindex
X-PUBLISHED-TTL:PT1H
BEGIN:VTIMEZONE
TZID:America/Los_Angeles
BEGIN:DAYLIGHT
TZOFFSETFROM:-0800
TZOFFSETTO:-0700
TZNAME:PDT
DTSTART:20170312T100000
END:DAYLIGHT
BEGIN:STANDARD
TZOFFSETFROM:-0700
TZOFFSETTO:-0800
TZNAME:PST
DTSTART:20171105T090000
END:STANDARD
BEGIN:DAYLIGHT
TZOFFSETFROM:-0800
TZOFFSETTO:-0700
TZNAME:PDT
DTSTART:20180311T100000
END:DAYLIGHT
BEGIN:STANDARD
TZOFFSETFROM:-0700
TZOFFSETTO:-0800
TZNAME:PST
DTSTART:20181104T090000
END:STANDARD
BEGIN:DAYLIGHT
TZOFFSETFROM:-0800
TZOFFSETTO:-0700
TZNAME:PDT
DTSTART:20190310T100000
END:DAYLIGHT
BEGIN:STANDARD
TZOFFSETFROM:-0700
TZOFFSETTO:-0800
TZNAME:PST
DTSTART:20191103T090000
END:STANDARD
BEGIN:DAYLIGHT
TZOFFSETFROM:-0800
TZOFFSETTO:-0700
TZNAME:PDT
DTSTART:20200308T100000
END:DAYLIGHT
BEGIN:STANDARD
TZOFFSETFROM:-0700
TZOFFSETTO:-0800
TZNAME:PST
DTSTART:20201101T090000
END:STANDARD
END:VTIMEZONE
BEGIN:VEVENT
DTSTART;VALUE=DATE:20190306
DTEND;VALUE=DATE:20190307
DTSTAMP:20260424T030831
CREATED:20180730T222626Z
LAST-MODIFIED:20180730T222626Z
UID:1063-1551830400-1551916799@seattleoperaguild.org
SUMMARY:The (R)evolution of Steve Jobs
DESCRIPTION:More information: https://www.seattleopera.org/on-stage/revolution-of-steve-jobs/
URL:https://seattleoperaguild.org/calendar/the-revolution-of-steve-jobs-5/
CATEGORIES:Opera Event in the Region
END:VEVENT
BEGIN:VEVENT
DTSTART;VALUE=DATE:20190302
DTEND;VALUE=DATE:20190303
DTSTAMP:20260424T030831
CREATED:20180730T222536Z
LAST-MODIFIED:20180730T222536Z
UID:1060-1551484800-1551571199@seattleoperaguild.org
SUMMARY:The (R)evolution of Steve Jobs
DESCRIPTION:More information: https://www.seattleopera.org/on-stage/revolution-of-steve-jobs/
URL:https://seattleoperaguild.org/calendar/the-revolution-of-steve-jobs-4/
CATEGORIES:Opera Event in the Region
END:VEVENT
BEGIN:VEVENT
DTSTART;VALUE=DATE:20190227
DTEND;VALUE=DATE:20190228
DTSTAMP:20260424T030831
CREATED:20180730T222451Z
LAST-MODIFIED:20180730T222451Z
UID:1057-1551225600-1551311999@seattleoperaguild.org
SUMMARY:The (R)evolution of Steve Jobs
DESCRIPTION:More information: https://www.seattleopera.org/on-stage/revolution-of-steve-jobs/
URL:https://seattleoperaguild.org/calendar/the-revolution-of-steve-jobs-3/
CATEGORIES:Opera Event in the Region
END:VEVENT
BEGIN:VEVENT
DTSTART;VALUE=DATE:20190224
DTEND;VALUE=DATE:20190225
DTSTAMP:20260424T030831
CREATED:20180730T222419Z
LAST-MODIFIED:20180730T222419Z
UID:1055-1550966400-1551052799@seattleoperaguild.org
SUMMARY:The (R)evolution of Steve Jobs
DESCRIPTION:More information: https://www.seattleopera.org/on-stage/revolution-of-steve-jobs/
URL:https://seattleoperaguild.org/calendar/the-revolution-of-steve-jobs-2/
CATEGORIES:Opera Event in the Region
END:VEVENT
BEGIN:VEVENT
DTSTART;VALUE=DATE:20190223
DTEND;VALUE=DATE:20190224
DTSTAMP:20260424T030831
CREATED:20180730T222341Z
LAST-MODIFIED:20180730T222341Z
UID:1053-1550880000-1550966399@seattleoperaguild.org
SUMMARY:The (R)evolution of Steve Jobs
DESCRIPTION:More information: https://www.seattleopera.org/on-stage/revolution-of-steve-jobs/
URL:https://seattleoperaguild.org/calendar/the-revolution-of-steve-jobs/
CATEGORIES:Opera Event in the Region
END:VEVENT
BEGIN:VEVENT
DTSTART;VALUE=DATE:20190210
DTEND;VALUE=DATE:20190211
DTSTAMP:20260424T030831
CREATED:20180730T222006Z
LAST-MODIFIED:20180730T222006Z
UID:1047-1549756800-1549843199@seattleoperaguild.org
SUMMARY:The Rape of Lucretia
DESCRIPTION:More information: http://www.tacomaopera.com/2018-19-season/
URL:https://seattleoperaguild.org/calendar/the-rape-of-lucretia-3/
CATEGORIES:Opera Event in the Region
END:VEVENT
BEGIN:VEVENT
DTSTART;VALUE=DATE:20190209
DTEND;VALUE=DATE:20190210
DTSTAMP:20260424T030831
CREATED:20180730T222753Z
LAST-MODIFIED:20180730T222753Z
UID:1067-1549670400-1549756799@seattleoperaguild.org
SUMMARY:The (R)evolution of Steve Jobs
DESCRIPTION:More information: https://www.seattleopera.org/on-stage/revolution-of-steve-jobs/
URL:https://seattleoperaguild.org/calendar/the-revolution-of-steve-jobs-7/
CATEGORIES:Opera Event in the Region
END:VEVENT
BEGIN:VEVENT
DTSTART;VALUE=DATE:20190209
DTEND;VALUE=DATE:20190210
DTSTAMP:20260424T030831
CREATED:20180730T222114Z
LAST-MODIFIED:20180730T222114Z
UID:1051-1549670400-1549756799@seattleoperaguild.org
SUMMARY:Leading Ladies
DESCRIPTION:
URL:https://seattleoperaguild.org/calendar/leading-ladies-2/
CATEGORIES:Opera Event in the Region
END:VEVENT
BEGIN:VEVENT
DTSTART;VALUE=DATE:20190208
DTEND;VALUE=DATE:20190209
DTSTAMP:20260424T030831
CREATED:20180730T222041Z
LAST-MODIFIED:20180730T222041Z
UID:1049-1549584000-1549670399@seattleoperaguild.org
SUMMARY:Leading Ladies
DESCRIPTION:
URL:https://seattleoperaguild.org/calendar/leading-ladies/
CATEGORIES:Opera Event in the Region
END:VEVENT
BEGIN:VEVENT
DTSTART;VALUE=DATE:20190208
DTEND;VALUE=DATE:20190209
DTSTAMP:20260424T030831
CREATED:20180730T221924Z
LAST-MODIFIED:20180730T221924Z
UID:1045-1549584000-1549670399@seattleoperaguild.org
SUMMARY:The Rape of Lucretia
DESCRIPTION:More information: http://www.tacomaopera.com/2018-19-season/
URL:https://seattleoperaguild.org/calendar/the-rape-of-lucretia-2/
CATEGORIES:Opera Event in the Region
END:VEVENT
BEGIN:VEVENT
DTSTART;VALUE=DATE:20190203
DTEND;VALUE=DATE:20190204
DTSTAMP:20260424T030831
CREATED:20180730T221739Z
LAST-MODIFIED:20180730T221739Z
UID:1043-1549152000-1549238399@seattleoperaguild.org
SUMMARY:The Rape of Lucretia
DESCRIPTION:More information: http://www.tacomaopera.com/2018-19-season/
URL:https://seattleoperaguild.org/calendar/the-rape-of-lucretia/
CATEGORIES:Opera Event in the Region
END:VEVENT
BEGIN:VEVENT
DTSTART;VALUE=DATE:20190126
DTEND;VALUE=DATE:20190127
DTSTAMP:20260424T030831
CREATED:20180730T221609Z
LAST-MODIFIED:20180730T221609Z
UID:1041-1548460800-1548547199@seattleoperaguild.org
SUMMARY:Il trovatore
DESCRIPTION:More information: https://seattleopera.org/on-stage/il-trovatore/
URL:https://seattleoperaguild.org/calendar/il-trovatore-12/
CATEGORIES:Opera Event in the Region
END:VEVENT
BEGIN:VEVENT
DTSTART;VALUE=DATE:20190125
DTEND;VALUE=DATE:20190126
DTSTAMP:20260424T030831
CREATED:20180730T221539Z
LAST-MODIFIED:20180730T221539Z
UID:1039-1548374400-1548460799@seattleoperaguild.org
SUMMARY:Il trovatore
DESCRIPTION:More information: https://seattleopera.org/on-stage/il-trovatore/
URL:https://seattleoperaguild.org/calendar/il-trovatore-11/
CATEGORIES:Opera Event in the Region
END:VEVENT
BEGIN:VEVENT
DTSTART;VALUE=DATE:20190123
DTEND;VALUE=DATE:20190124
DTSTAMP:20260424T030831
CREATED:20180730T221507Z
LAST-MODIFIED:20180730T221507Z
UID:1037-1548201600-1548287999@seattleoperaguild.org
SUMMARY:Il trovatore
DESCRIPTION:More information: https://seattleopera.org/on-stage/il-trovatore/
URL:https://seattleoperaguild.org/calendar/il-trovatore-10/
CATEGORIES:Opera Event in the Region
END:VEVENT
BEGIN:VEVENT
DTSTART;VALUE=DATE:20190120
DTEND;VALUE=DATE:20190121
DTSTAMP:20260424T030831
CREATED:20180730T221433Z
LAST-MODIFIED:20180730T221433Z
UID:1034-1547942400-1548028799@seattleoperaguild.org
SUMMARY:Il trovatore
DESCRIPTION:More information: https://seattleopera.org/on-stage/il-trovatore/
URL:https://seattleoperaguild.org/calendar/il-trovatore-9/
CATEGORIES:Opera Event in the Region
END:VEVENT
BEGIN:VEVENT
DTSTART;VALUE=DATE:20190119
DTEND;VALUE=DATE:20190120
DTSTAMP:20260424T030831
CREATED:20180730T221405Z
LAST-MODIFIED:20180730T221405Z
UID:1032-1547856000-1547942399@seattleoperaguild.org
SUMMARY:Il trovatore
DESCRIPTION:More information: https://seattleopera.org/on-stage/il-trovatore/
URL:https://seattleoperaguild.org/calendar/il-trovatore-8/
CATEGORIES:Opera Event in the Region
END:VEVENT
BEGIN:VEVENT
DTSTART;VALUE=DATE:20190116
DTEND;VALUE=DATE:20190117
DTSTAMP:20260424T030831
CREATED:20180730T221338Z
LAST-MODIFIED:20180730T221338Z
UID:1030-1547596800-1547683199@seattleoperaguild.org
SUMMARY:Il trovatore
DESCRIPTION:More information: https://seattleopera.org/on-stage/il-trovatore/
URL:https://seattleoperaguild.org/calendar/il-trovatore-7/
CATEGORIES:Opera Event in the Region
END:VEVENT
BEGIN:VEVENT
DTSTART;VALUE=DATE:20190113
DTEND;VALUE=DATE:20190114
DTSTAMP:20260424T030831
CREATED:20180730T221310Z
LAST-MODIFIED:20180730T221310Z
UID:1028-1547337600-1547423999@seattleoperaguild.org
SUMMARY:Il trovatore
DESCRIPTION:More information: https://seattleopera.org/on-stage/il-trovatore/
URL:https://seattleoperaguild.org/calendar/il-trovatore-6/
CATEGORIES:Opera Event in the Region
END:VEVENT
BEGIN:VEVENT
DTSTART;VALUE=DATE:20190112
DTEND;VALUE=DATE:20190113
DTSTAMP:20260424T030831
CREATED:20180730T221212Z
LAST-MODIFIED:20180730T221212Z
UID:1025-1547251200-1547337599@seattleoperaguild.org
SUMMARY:Il trovatore
DESCRIPTION:More information: https://seattleopera.org/on-stage/il-trovatore/
URL:https://seattleoperaguild.org/calendar/il-trovatore-5/
CATEGORIES:Opera Event in the Region
END:VEVENT
BEGIN:VEVENT
DTSTART;VALUE=DATE:20181209
DTEND;VALUE=DATE:20181210
DTSTAMP:20260424T030831
CREATED:20180730T221016Z
LAST-MODIFIED:20180730T221016Z
UID:1023-1544313600-1544399999@seattleoperaguild.org
SUMMARY:Christmas in Rome
DESCRIPTION:
URL:https://seattleoperaguild.org/calendar/christmas-in-rome-3/
CATEGORIES:Opera Event in the Region
END:VEVENT
BEGIN:VEVENT
DTSTART;VALUE=DATE:20181208
DTEND;VALUE=DATE:20181209
DTSTAMP:20260424T030831
CREATED:20180730T220950Z
LAST-MODIFIED:20180730T220950Z
UID:1021-1544227200-1544313599@seattleoperaguild.org
SUMMARY:Christmas in Rome
DESCRIPTION:
URL:https://seattleoperaguild.org/calendar/christmas-in-rome-2/
CATEGORIES:Opera Event in the Region
END:VEVENT
BEGIN:VEVENT
DTSTART;VALUE=DATE:20181207
DTEND;VALUE=DATE:20181208
DTSTAMP:20260424T030831
CREATED:20180730T220907Z
LAST-MODIFIED:20180730T220907Z
UID:1019-1544140800-1544227199@seattleoperaguild.org
SUMMARY:Christmas in Rome
DESCRIPTION:
URL:https://seattleoperaguild.org/calendar/christmas-in-rome/
CATEGORIES:Opera Event in the Region
END:VEVENT
BEGIN:VEVENT
DTSTART;TZID=America/Los_Angeles:20181104T160000
DTEND;TZID=America/Los_Angeles:20181104T160000
DTSTAMP:20260424T030831
CREATED:20180730T220758Z
LAST-MODIFIED:20180730T220758Z
UID:1015-1541347200-1541347200@seattleoperaguild.org
SUMMARY:Fall Concert: A 20th Birthday Celebration
DESCRIPTION:More information: https://www.musicofremembrance.org/concert/fall-concert-20th-anniversary-celebration
URL:https://seattleoperaguild.org/calendar/fall-concert/
CATEGORIES:Opera Event in the Region
END:VEVENT
BEGIN:VEVENT
DTSTART;VALUE=DATE:20181104
DTEND;VALUE=DATE:20181105
DTSTAMP:20260424T030831
CREATED:20180730T220514Z
LAST-MODIFIED:20180730T220514Z
UID:1013-1541289600-1541375999@seattleoperaguild.org
SUMMARY:Lucia di Lammermoor
DESCRIPTION:More information: http://www.tacomaopera.com/2018-19-season/
URL:https://seattleoperaguild.org/calendar/lucia-di-lammermoor-4/
CATEGORIES:Opera Event in the Region
END:VEVENT
BEGIN:VEVENT
DTSTART;VALUE=DATE:20181104
DTEND;VALUE=DATE:20181105
DTSTAMP:20260424T030831
CREATED:20180730T220052Z
LAST-MODIFIED:20180730T220052Z
UID:1003-1541289600-1541375999@seattleoperaguild.org
SUMMARY:La bohéme
DESCRIPTION:More information: https://pnopera.org/performance/la-boheme-2/
URL:https://seattleoperaguild.org/calendar/la-boheme-11/
CATEGORIES:Opera Event in the Region
END:VEVENT
BEGIN:VEVENT
DTSTART;VALUE=DATE:20181102
DTEND;VALUE=DATE:20181103
DTSTAMP:20260424T030831
CREATED:20180730T220443Z
LAST-MODIFIED:20180730T220443Z
UID:1010-1541116800-1541203199@seattleoperaguild.org
SUMMARY:Lucia di Lammermoor
DESCRIPTION:More information: http://www.tacomaopera.com/2018-19-season/
URL:https://seattleoperaguild.org/calendar/lucia-di-lammermoor-3/
CATEGORIES:Opera Event in the Region
END:VEVENT
BEGIN:VEVENT
DTSTART;VALUE=DATE:20181102
DTEND;VALUE=DATE:20181103
DTSTAMP:20260424T030831
CREATED:20180730T220019Z
LAST-MODIFIED:20180730T220019Z
UID:1001-1541116800-1541203199@seattleoperaguild.org
SUMMARY:La bohéme
DESCRIPTION:More information: https://pnopera.org/performance/la-boheme-2/
URL:https://seattleoperaguild.org/calendar/la-boheme-10/
CATEGORIES:Opera Event in the Region
END:VEVENT
BEGIN:VEVENT
DTSTART;VALUE=DATE:20181028
DTEND;VALUE=DATE:20181029
DTSTAMP:20260424T030831
CREATED:20180730T220333Z
LAST-MODIFIED:20180730T220333Z
UID:1008-1540684800-1540771199@seattleoperaguild.org
SUMMARY:Lucia di Lammermoor
DESCRIPTION:More information: http://www.tacomaopera.com/2018-19-season/
URL:https://seattleoperaguild.org/calendar/lucia-di-lammermoor-2/
CATEGORIES:Opera Event in the Region
END:VEVENT
BEGIN:VEVENT
DTSTART;VALUE=DATE:20181028
DTEND;VALUE=DATE:20181029
DTSTAMP:20260424T030831
CREATED:20180730T215943Z
LAST-MODIFIED:20180730T215943Z
UID:999-1540684800-1540771199@seattleoperaguild.org
SUMMARY:La bohéme
DESCRIPTION:More information: https://pnopera.org/performance/la-boheme-2/
URL:https://seattleoperaguild.org/calendar/la-boheme-9/
CATEGORIES:Opera Event in the Region
END:VEVENT
BEGIN:VEVENT
DTSTART;VALUE=DATE:20181027
DTEND;VALUE=DATE:20181028
DTSTAMP:20260424T030831
CREATED:20180730T215745Z
LAST-MODIFIED:20180730T215745Z
UID:995-1540598400-1540684799@seattleoperaguild.org
SUMMARY:Monteverdi Masterworks
DESCRIPTION:
URL:https://seattleoperaguild.org/calendar/monteverdi-masterworks-2/
CATEGORIES:Opera Event in the Region
END:VEVENT
END:VCALENDAR