BEGIN:VCALENDAR
VERSION:2.0
PRODID:-//Seattle Opera Guild - ECPv6.15.20//NONSGML v1.0//EN
CALSCALE:GREGORIAN
METHOD:PUBLISH
X-ORIGINAL-URL:https://seattleoperaguild.org
X-WR-CALDESC:Events for Seattle Opera Guild
REFRESH-INTERVAL;VALUE=DURATION:PT1H
X-Robots-Tag:noindex
X-PUBLISHED-TTL:PT1H
BEGIN:VTIMEZONE
TZID:America/Los_Angeles
BEGIN:DAYLIGHT
TZOFFSETFROM:-0800
TZOFFSETTO:-0700
TZNAME:PDT
DTSTART:20170312T100000
END:DAYLIGHT
BEGIN:STANDARD
TZOFFSETFROM:-0700
TZOFFSETTO:-0800
TZNAME:PST
DTSTART:20171105T090000
END:STANDARD
BEGIN:DAYLIGHT
TZOFFSETFROM:-0800
TZOFFSETTO:-0700
TZNAME:PDT
DTSTART:20180311T100000
END:DAYLIGHT
BEGIN:STANDARD
TZOFFSETFROM:-0700
TZOFFSETTO:-0800
TZNAME:PST
DTSTART:20181104T090000
END:STANDARD
BEGIN:DAYLIGHT
TZOFFSETFROM:-0800
TZOFFSETTO:-0700
TZNAME:PDT
DTSTART:20190310T100000
END:DAYLIGHT
BEGIN:STANDARD
TZOFFSETFROM:-0700
TZOFFSETTO:-0800
TZNAME:PST
DTSTART:20191103T090000
END:STANDARD
END:VTIMEZONE
BEGIN:VEVENT
DTSTART;VALUE=DATE:20181208
DTEND;VALUE=DATE:20181209
DTSTAMP:20260424T055720
CREATED:20180730T220950Z
LAST-MODIFIED:20180730T220950Z
UID:1021-1544227200-1544313599@seattleoperaguild.org
SUMMARY:Christmas in Rome
DESCRIPTION:
URL:https://seattleoperaguild.org/calendar/christmas-in-rome-2/
CATEGORIES:Opera Event in the Region
END:VEVENT
BEGIN:VEVENT
DTSTART;VALUE=DATE:20181207
DTEND;VALUE=DATE:20181208
DTSTAMP:20260424T055720
CREATED:20180730T220907Z
LAST-MODIFIED:20180730T220907Z
UID:1019-1544140800-1544227199@seattleoperaguild.org
SUMMARY:Christmas in Rome
DESCRIPTION:
URL:https://seattleoperaguild.org/calendar/christmas-in-rome/
CATEGORIES:Opera Event in the Region
END:VEVENT
BEGIN:VEVENT
DTSTART;TZID=America/Los_Angeles:20181104T160000
DTEND;TZID=America/Los_Angeles:20181104T160000
DTSTAMP:20260424T055720
CREATED:20180730T220758Z
LAST-MODIFIED:20180730T220758Z
UID:1015-1541347200-1541347200@seattleoperaguild.org
SUMMARY:Fall Concert: A 20th Birthday Celebration
DESCRIPTION:More information: https://www.musicofremembrance.org/concert/fall-concert-20th-anniversary-celebration
URL:https://seattleoperaguild.org/calendar/fall-concert/
CATEGORIES:Opera Event in the Region
END:VEVENT
BEGIN:VEVENT
DTSTART;VALUE=DATE:20181104
DTEND;VALUE=DATE:20181105
DTSTAMP:20260424T055720
CREATED:20180730T220514Z
LAST-MODIFIED:20180730T220514Z
UID:1013-1541289600-1541375999@seattleoperaguild.org
SUMMARY:Lucia di Lammermoor
DESCRIPTION:More information: http://www.tacomaopera.com/2018-19-season/
URL:https://seattleoperaguild.org/calendar/lucia-di-lammermoor-4/
CATEGORIES:Opera Event in the Region
END:VEVENT
BEGIN:VEVENT
DTSTART;VALUE=DATE:20181104
DTEND;VALUE=DATE:20181105
DTSTAMP:20260424T055720
CREATED:20180730T220052Z
LAST-MODIFIED:20180730T220052Z
UID:1003-1541289600-1541375999@seattleoperaguild.org
SUMMARY:La bohéme
DESCRIPTION:More information: https://pnopera.org/performance/la-boheme-2/
URL:https://seattleoperaguild.org/calendar/la-boheme-11/
CATEGORIES:Opera Event in the Region
END:VEVENT
BEGIN:VEVENT
DTSTART;VALUE=DATE:20181102
DTEND;VALUE=DATE:20181103
DTSTAMP:20260424T055720
CREATED:20180730T220443Z
LAST-MODIFIED:20180730T220443Z
UID:1010-1541116800-1541203199@seattleoperaguild.org
SUMMARY:Lucia di Lammermoor
DESCRIPTION:More information: http://www.tacomaopera.com/2018-19-season/
URL:https://seattleoperaguild.org/calendar/lucia-di-lammermoor-3/
CATEGORIES:Opera Event in the Region
END:VEVENT
BEGIN:VEVENT
DTSTART;VALUE=DATE:20181102
DTEND;VALUE=DATE:20181103
DTSTAMP:20260424T055720
CREATED:20180730T220019Z
LAST-MODIFIED:20180730T220019Z
UID:1001-1541116800-1541203199@seattleoperaguild.org
SUMMARY:La bohéme
DESCRIPTION:More information: https://pnopera.org/performance/la-boheme-2/
URL:https://seattleoperaguild.org/calendar/la-boheme-10/
CATEGORIES:Opera Event in the Region
END:VEVENT
BEGIN:VEVENT
DTSTART;VALUE=DATE:20181028
DTEND;VALUE=DATE:20181029
DTSTAMP:20260424T055720
CREATED:20180730T220333Z
LAST-MODIFIED:20180730T220333Z
UID:1008-1540684800-1540771199@seattleoperaguild.org
SUMMARY:Lucia di Lammermoor
DESCRIPTION:More information: http://www.tacomaopera.com/2018-19-season/
URL:https://seattleoperaguild.org/calendar/lucia-di-lammermoor-2/
CATEGORIES:Opera Event in the Region
END:VEVENT
BEGIN:VEVENT
DTSTART;VALUE=DATE:20181028
DTEND;VALUE=DATE:20181029
DTSTAMP:20260424T055720
CREATED:20180730T215943Z
LAST-MODIFIED:20180730T215943Z
UID:999-1540684800-1540771199@seattleoperaguild.org
SUMMARY:La bohéme
DESCRIPTION:More information: https://pnopera.org/performance/la-boheme-2/
URL:https://seattleoperaguild.org/calendar/la-boheme-9/
CATEGORIES:Opera Event in the Region
END:VEVENT
BEGIN:VEVENT
DTSTART;VALUE=DATE:20181027
DTEND;VALUE=DATE:20181028
DTSTAMP:20260424T055720
CREATED:20180730T215745Z
LAST-MODIFIED:20180730T215745Z
UID:995-1540598400-1540684799@seattleoperaguild.org
SUMMARY:Monteverdi Masterworks
DESCRIPTION:
URL:https://seattleoperaguild.org/calendar/monteverdi-masterworks-2/
CATEGORIES:Opera Event in the Region
END:VEVENT
BEGIN:VEVENT
DTSTART;VALUE=DATE:20181027
DTEND;VALUE=DATE:20181028
DTSTAMP:20260424T055720
CREATED:20180730T215333Z
LAST-MODIFIED:20180730T215333Z
UID:986-1540598400-1540684799@seattleoperaguild.org
SUMMARY:The Turn of the Screw
DESCRIPTION:More information: https://www.seattleopera.org/on-stage/turn-of-the-screw/
URL:https://seattleoperaguild.org/calendar/the-turn-of-the-screw-7/
CATEGORIES:Opera Event in the Region
END:VEVENT
BEGIN:VEVENT
DTSTART;VALUE=DATE:20181026
DTEND;VALUE=DATE:20181027
DTSTAMP:20260424T055720
CREATED:20180730T220300Z
LAST-MODIFIED:20180730T220300Z
UID:1005-1540512000-1540598399@seattleoperaguild.org
SUMMARY:Lucia di Lammermoor
DESCRIPTION:More information: http://www.tacomaopera.com/2018-19-season/
URL:https://seattleoperaguild.org/calendar/lucia-di-lammermoor/
CATEGORIES:Opera Event in the Region
END:VEVENT
BEGIN:VEVENT
DTSTART;VALUE=DATE:20181026
DTEND;VALUE=DATE:20181027
DTSTAMP:20260424T055720
CREATED:20180730T215901Z
LAST-MODIFIED:20180730T215901Z
UID:997-1540512000-1540598399@seattleoperaguild.org
SUMMARY:La bohéme
DESCRIPTION:More information: https://pnopera.org/performance/la-boheme-2/
URL:https://seattleoperaguild.org/calendar/la-boheme-8/
CATEGORIES:Opera Event in the Region
END:VEVENT
BEGIN:VEVENT
DTSTART;VALUE=DATE:20181026
DTEND;VALUE=DATE:20181027
DTSTAMP:20260424T055720
CREATED:20180730T215700Z
LAST-MODIFIED:20180730T215700Z
UID:989-1540512000-1540598399@seattleoperaguild.org
SUMMARY:Monteverdi Masterworks
DESCRIPTION:
URL:https://seattleoperaguild.org/calendar/monteverdi-masterworks/
CATEGORIES:Opera Event in the Region
END:VEVENT
BEGIN:VEVENT
DTSTART;VALUE=DATE:20181026
DTEND;VALUE=DATE:20181027
DTSTAMP:20260424T055720
CREATED:20180730T215256Z
LAST-MODIFIED:20180730T215256Z
UID:984-1540512000-1540598399@seattleoperaguild.org
SUMMARY:The Turn of the Screw
DESCRIPTION:More information: https://www.seattleopera.org/on-stage/turn-of-the-screw/
URL:https://seattleoperaguild.org/calendar/the-turn-of-the-screw-6/
CATEGORIES:Opera Event in the Region
END:VEVENT
BEGIN:VEVENT
DTSTART;VALUE=DATE:20181024
DTEND;VALUE=DATE:20181025
DTSTAMP:20260424T055720
CREATED:20180730T215228Z
LAST-MODIFIED:20180730T215228Z
UID:982-1540339200-1540425599@seattleoperaguild.org
SUMMARY:The Turn of the Screw
DESCRIPTION:More information: https://www.seattleopera.org/on-stage/turn-of-the-screw/
URL:https://seattleoperaguild.org/calendar/the-turn-of-the-screw-5/
CATEGORIES:Opera Event in the Region
END:VEVENT
BEGIN:VEVENT
DTSTART;VALUE=DATE:20181020
DTEND;VALUE=DATE:20181021
DTSTAMP:20260424T055720
CREATED:20180730T215156Z
LAST-MODIFIED:20180730T215156Z
UID:980-1539993600-1540079999@seattleoperaguild.org
SUMMARY:The Turn of the Screw
DESCRIPTION:More information: https://www.seattleopera.org/on-stage/turn-of-the-screw/
URL:https://seattleoperaguild.org/calendar/the-turn-of-the-screw-4/
CATEGORIES:Opera Event in the Region
END:VEVENT
BEGIN:VEVENT
DTSTART;VALUE=DATE:20181017
DTEND;VALUE=DATE:20181018
DTSTAMP:20260424T055720
CREATED:20180730T215127Z
LAST-MODIFIED:20180730T215127Z
UID:978-1539734400-1539820799@seattleoperaguild.org
SUMMARY:The Turn of the Screw
DESCRIPTION:More information: https://www.seattleopera.org/on-stage/turn-of-the-screw/
URL:https://seattleoperaguild.org/calendar/the-turn-of-the-screw-3/
CATEGORIES:Opera Event in the Region
END:VEVENT
BEGIN:VEVENT
DTSTART;VALUE=DATE:20181014
DTEND;VALUE=DATE:20181015
DTSTAMP:20260424T055720
CREATED:20180730T215053Z
LAST-MODIFIED:20180730T215053Z
UID:976-1539475200-1539561599@seattleoperaguild.org
SUMMARY:The Turn of the Screw
DESCRIPTION:More information: https://www.seattleopera.org/on-stage/turn-of-the-screw/
URL:https://seattleoperaguild.org/calendar/the-turn-of-the-screw-2/
CATEGORIES:Opera Event in the Region
END:VEVENT
BEGIN:VEVENT
DTSTART;VALUE=DATE:20181013
DTEND;VALUE=DATE:20181014
DTSTAMP:20260424T055720
CREATED:20180730T215008Z
LAST-MODIFIED:20180730T215008Z
UID:974-1539388800-1539475199@seattleoperaguild.org
SUMMARY:The Turn of the Screw
DESCRIPTION:More information: https://www.seattleopera.org/on-stage/turn-of-the-screw/
URL:https://seattleoperaguild.org/calendar/the-turn-of-the-screw/
CATEGORIES:Opera Event in the Region
END:VEVENT
BEGIN:VEVENT
DTSTART;TZID=America/Los_Angeles:20180929T190000
DTEND;TZID=America/Los_Angeles:20180929T190000
DTSTAMP:20260424T055720
CREATED:20180903T202654Z
LAST-MODIFIED:20180903T202654Z
UID:1146-1538247600-1538247600@seattleoperaguild.org
SUMMARY:Master class by Marco Nisticò
DESCRIPTION:Tickets at door: $20 general; $10 students. \nMore information: marconistico.com
URL:https://seattleoperaguild.org/calendar/master-class-by-marco-nistico/
CATEGORIES:Opera Event in the Region
ATTACH;FMTTYPE=:
END:VEVENT
BEGIN:VEVENT
DTSTART;VALUE=DATE:20180916
DTEND;VALUE=DATE:20180917
DTSTAMP:20260424T055720
CREATED:20180730T214811Z
LAST-MODIFIED:20180730T214811Z
UID:972-1537056000-1537142399@seattleoperaguild.org
SUMMARY:La bohéme
DESCRIPTION:More information: https://www.vashonopera.org/2018-2019-season/la-boheme
URL:https://seattleoperaguild.org/calendar/la-boheme-7/
CATEGORIES:Opera Event in the Region
END:VEVENT
BEGIN:VEVENT
DTSTART;VALUE=DATE:20180914
DTEND;VALUE=DATE:20180915
DTSTAMP:20260424T055720
CREATED:20180730T214711Z
LAST-MODIFIED:20180730T214711Z
UID:966-1536883200-1536969599@seattleoperaguild.org
SUMMARY:La bohéme
DESCRIPTION:More information: https://www.vashonopera.org/2018-2019-season/la-boheme
URL:https://seattleoperaguild.org/calendar/la-boheme-6/
CATEGORIES:Opera Event in the Region
END:VEVENT
BEGIN:VEVENT
DTSTART;VALUE=DATE:20180825
DTEND;VALUE=DATE:20180826
DTSTAMP:20260424T055720
CREATED:20180730T214145Z
LAST-MODIFIED:20180730T214145Z
UID:964-1535155200-1535241599@seattleoperaguild.org
SUMMARY:Porgy and Bess
DESCRIPTION:More information: https://www.seattleopera.org/on-stage/porgy-and-bess/
URL:https://seattleoperaguild.org/calendar/porgy-and-bess-9/
CATEGORIES:Opera Event in the Region
END:VEVENT
BEGIN:VEVENT
DTSTART;VALUE=DATE:20180824
DTEND;VALUE=DATE:20180825
DTSTAMP:20260424T055720
CREATED:20180730T214110Z
LAST-MODIFIED:20180730T214110Z
UID:962-1535068800-1535155199@seattleoperaguild.org
SUMMARY:Porgy and Bess
DESCRIPTION:More information: https://www.seattleopera.org/on-stage/porgy-and-bess/
URL:https://seattleoperaguild.org/calendar/porgy-and-bess-8/
CATEGORIES:Opera Event in the Region
END:VEVENT
BEGIN:VEVENT
DTSTART;VALUE=DATE:20180822
DTEND;VALUE=DATE:20180823
DTSTAMP:20260424T055720
CREATED:20180730T214034Z
LAST-MODIFIED:20180730T214034Z
UID:960-1534896000-1534982399@seattleoperaguild.org
SUMMARY:Porgy and Bess
DESCRIPTION:More information: https://www.seattleopera.org/on-stage/porgy-and-bess/
URL:https://seattleoperaguild.org/calendar/porgy-and-bess-7/
CATEGORIES:Opera Event in the Region
END:VEVENT
BEGIN:VEVENT
DTSTART;VALUE=DATE:20180819
DTEND;VALUE=DATE:20180820
DTSTAMP:20260424T055720
CREATED:20180730T214003Z
LAST-MODIFIED:20180730T214003Z
UID:958-1534636800-1534723199@seattleoperaguild.org
SUMMARY:Porgy and Bess
DESCRIPTION:More information: https://www.seattleopera.org/on-stage/porgy-and-bess/
URL:https://seattleoperaguild.org/calendar/porgy-and-bess-6/
CATEGORIES:Opera Event in the Region
END:VEVENT
BEGIN:VEVENT
DTSTART;VALUE=DATE:20180818
DTEND;VALUE=DATE:20180819
DTSTAMP:20260424T055720
CREATED:20180730T213927Z
LAST-MODIFIED:20180730T213927Z
UID:956-1534550400-1534636799@seattleoperaguild.org
SUMMARY:Porgy and Bess
DESCRIPTION:More information: https://www.seattleopera.org/on-stage/porgy-and-bess/
URL:https://seattleoperaguild.org/calendar/porgy-and-bess-5/
CATEGORIES:Opera Event in the Region
END:VEVENT
BEGIN:VEVENT
DTSTART;VALUE=DATE:20180817
DTEND;VALUE=DATE:20180818
DTSTAMP:20260424T055720
CREATED:20180730T213859Z
LAST-MODIFIED:20180730T213859Z
UID:954-1534464000-1534550399@seattleoperaguild.org
SUMMARY:Porgy and Bess
DESCRIPTION:More information: https://www.seattleopera.org/on-stage/porgy-and-bess/
URL:https://seattleoperaguild.org/calendar/porgy-and-bess-4/
CATEGORIES:Opera Event in the Region
END:VEVENT
BEGIN:VEVENT
DTSTART;VALUE=DATE:20180815
DTEND;VALUE=DATE:20180816
DTSTAMP:20260424T055720
CREATED:20180730T213829Z
LAST-MODIFIED:20180730T213829Z
UID:952-1534291200-1534377599@seattleoperaguild.org
SUMMARY:Porgy and Bess
DESCRIPTION:More information: https://www.seattleopera.org/on-stage/porgy-and-bess/
URL:https://seattleoperaguild.org/calendar/porgy-and-bess-3/
CATEGORIES:Opera Event in the Region
END:VEVENT
END:VCALENDAR