BEGIN:VCALENDAR
VERSION:2.0
PRODID:-//Seattle Opera Guild - ECPv6.15.20//NONSGML v1.0//EN
CALSCALE:GREGORIAN
METHOD:PUBLISH
X-ORIGINAL-URL:https://seattleoperaguild.org
X-WR-CALDESC:Events for Seattle Opera Guild
REFRESH-INTERVAL;VALUE=DURATION:PT1H
X-Robots-Tag:noindex
X-PUBLISHED-TTL:PT1H
BEGIN:VTIMEZONE
TZID:America/Los_Angeles
BEGIN:DAYLIGHT
TZOFFSETFROM:-0800
TZOFFSETTO:-0700
TZNAME:PDT
DTSTART:20160313T100000
END:DAYLIGHT
BEGIN:STANDARD
TZOFFSETFROM:-0700
TZOFFSETTO:-0800
TZNAME:PST
DTSTART:20161106T090000
END:STANDARD
BEGIN:DAYLIGHT
TZOFFSETFROM:-0800
TZOFFSETTO:-0700
TZNAME:PDT
DTSTART:20170312T100000
END:DAYLIGHT
BEGIN:STANDARD
TZOFFSETFROM:-0700
TZOFFSETTO:-0800
TZNAME:PST
DTSTART:20171105T090000
END:STANDARD
BEGIN:DAYLIGHT
TZOFFSETFROM:-0800
TZOFFSETTO:-0700
TZNAME:PDT
DTSTART:20180311T100000
END:DAYLIGHT
BEGIN:STANDARD
TZOFFSETFROM:-0700
TZOFFSETTO:-0800
TZNAME:PST
DTSTART:20181104T090000
END:STANDARD
BEGIN:DAYLIGHT
TZOFFSETFROM:-0800
TZOFFSETTO:-0700
TZNAME:PDT
DTSTART:20190310T100000
END:DAYLIGHT
BEGIN:STANDARD
TZOFFSETFROM:-0700
TZOFFSETTO:-0800
TZNAME:PST
DTSTART:20191103T090000
END:STANDARD
BEGIN:DAYLIGHT
TZOFFSETFROM:-0800
TZOFFSETTO:-0700
TZNAME:PDT
DTSTART:20200308T100000
END:DAYLIGHT
BEGIN:STANDARD
TZOFFSETFROM:-0700
TZOFFSETTO:-0800
TZNAME:PST
DTSTART:20201101T090000
END:STANDARD
BEGIN:DAYLIGHT
TZOFFSETFROM:-0800
TZOFFSETTO:-0700
TZNAME:PDT
DTSTART:20210314T100000
END:DAYLIGHT
BEGIN:STANDARD
TZOFFSETFROM:-0700
TZOFFSETTO:-0800
TZNAME:PST
DTSTART:20211107T090000
END:STANDARD
BEGIN:DAYLIGHT
TZOFFSETFROM:-0800
TZOFFSETTO:-0700
TZNAME:PDT
DTSTART:20220313T100000
END:DAYLIGHT
BEGIN:STANDARD
TZOFFSETFROM:-0700
TZOFFSETTO:-0800
TZNAME:PST
DTSTART:20221106T090000
END:STANDARD
BEGIN:DAYLIGHT
TZOFFSETFROM:-0800
TZOFFSETTO:-0700
TZNAME:PDT
DTSTART:20230312T100000
END:DAYLIGHT
BEGIN:STANDARD
TZOFFSETFROM:-0700
TZOFFSETTO:-0800
TZNAME:PST
DTSTART:20231105T090000
END:STANDARD
BEGIN:DAYLIGHT
TZOFFSETFROM:-0800
TZOFFSETTO:-0700
TZNAME:PDT
DTSTART:20240310T100000
END:DAYLIGHT
BEGIN:STANDARD
TZOFFSETFROM:-0700
TZOFFSETTO:-0800
TZNAME:PST
DTSTART:20241103T090000
END:STANDARD
BEGIN:DAYLIGHT
TZOFFSETFROM:-0800
TZOFFSETTO:-0700
TZNAME:PDT
DTSTART:20250309T100000
END:DAYLIGHT
BEGIN:STANDARD
TZOFFSETFROM:-0700
TZOFFSETTO:-0800
TZNAME:PST
DTSTART:20251102T090000
END:STANDARD
BEGIN:DAYLIGHT
TZOFFSETFROM:-0800
TZOFFSETTO:-0700
TZNAME:PDT
DTSTART:20260308T100000
END:DAYLIGHT
BEGIN:STANDARD
TZOFFSETFROM:-0700
TZOFFSETTO:-0800
TZNAME:PST
DTSTART:20261101T090000
END:STANDARD
END:VTIMEZONE
BEGIN:VEVENT
DTSTART;VALUE=DATE:20250622
DTEND;VALUE=DATE:20250623
DTSTAMP:20260423T191401
CREATED:20241016T202756Z
LAST-MODIFIED:20250617T064230Z
UID:19780-1750550400-1750636799@seattleoperaguild.org
SUMMARY:Annual Meeting
DESCRIPTION:Please join us for our 68th Annual General Meeting! \nSunday\, 22 June 2025\, 5:30-8:00 PM \nMeeting to be followed by Wine\, Hors d’oeuvres\, Song & Camaraderie \nFeatured Performers: Soprano\, Sophia Emanuel\, Tenor\, Jonathan Suek and Pianist\, Luke Raffanti \nFirst Hill Plaza Condominiums\nRooftop Deck & Lounge\n1301 Spring St\nSeattle\, WA 98104 \nRSVP by 17 June\n$100 Members\, $125 Non-members \nTickets \nOr please send checks to:\nSeattle Opera Guild\nPO Box 5745\nLynnwood\, WA 98046 \n♫ We Hope to See You There! ♫
URL:https://seattleoperaguild.org/calendar/annual-meeting-2025/
LOCATION:First Hill Plaza Condominiums\, 1301 Spring St\, Seattle\, WA\, 98104\, United States
CATEGORIES:Operating Meeting,SOG Event
ATTACH;FMTTYPE=image/png:https://seattleoperaguild.org/wp-content/uploads/2025/06/sog-event.png
END:VEVENT
BEGIN:VEVENT
DTSTART;TZID=America/Los_Angeles:20240623T160000
DTEND;TZID=America/Los_Angeles:20240623T190000
DTSTAMP:20260423T191401
CREATED:20240531T193629Z
LAST-MODIFIED:20240531T193817Z
UID:19711-1719158400-1719169200@seattleoperaguild.org
SUMMARY:2024 Annual Meeting
DESCRIPTION:Seattle Opera Guild’s 2024 Annual Meeting will take place on June 23\, 4–7 p.m. at: \n1815 E McGraw St.\nSeattle\, WA 98112 \nThere are no stairs\, and there is free parking in the Montlake Community Center parking lot next to the tennis courts. \nMembers: $25\nGuests: $50 \nPlease pay below or bring a check payable to SOG. Questions? Contact Patricia Derrig Pavia at 203-414-3083 or pdpavia@gmail.com \n\n\n\n\n2024 Annual Meeting\n\n\n\n\n\n\n\n\n    Your Name\n        *\n    \n    \n    \n    \n\n\n    Your Phone Number\n        \n    \n    \n    \n    \n\n\n    Your Email Address\n        \n    \n    \n    \n    \n\n\n    Number of Members Attending\n        *\n    \n    \n    $25/person\n    \n\n\n    Number of Guests Attending\n        *\n    \n    \n    $50/person\n    \n\n\n    Additional Donation (optional)\n        \n    \n    \n    I would like to support the Seattle Opera Guild with an additional tax-deductible donation.\n    \n\n\n    Total\n        \n    \n    $\n    \n    \n\n\n	\n\nSubmit\n\n\n\n	\n			\n			\n				If you are human\, leave this field blank.
URL:https://seattleoperaguild.org/calendar/2024-annual-meeting/
LOCATION:1815 E McGraw St\, 1815 E McGraw St\, Seattle\, WA\, 98112\, United States
CATEGORIES:Operating Meeting,SOG Event
ATTACH;FMTTYPE=image/jpeg:https://seattleoperaguild.org/wp-content/uploads/2024/05/Screen-Shot-2024-05-31-at-3.20.45-PM.jpg
END:VEVENT
BEGIN:VEVENT
DTSTART;TZID=America/Los_Angeles:20230610T110000
DTEND;TZID=America/Los_Angeles:20230610T150000
DTSTAMP:20260423T191402
CREATED:20230120T010916Z
LAST-MODIFIED:20230608T130058Z
UID:19224-1686394800-1686409200@seattleoperaguild.org
SUMMARY:Seattle Opera Guild's 66th Annual Meeting and Luncheon
DESCRIPTION:Come and join us for our 66th Annual Meeting & Luncheon with Guild Business followed by a Luncheon and Entertainment at: \nWashington Athletic Club\nJohnson Lobby Lounge\n1325 6th Ave\nSeattle\, WA 98101 \n  \nCost\n$55.00 per member or guest \nPayment can be made below or or by sending a check to Seattle Opera Guild at:\nPO Box 5745\nLynnwood\, WA 98046 \nReservations due no later than Friday\, June 2nd \n  \nDetails\nMembers and guests will be greeted by the doorman and directed to the Johnson Lobby Lounge on the first floor for the meet & greet hour. \nGuild business will follow and include the vote for the guild officers and board of directors for the 2023–24 year. Members\, your ballots will be mailed to your home addresses. \nThere will be a plated three-course lunch: a taste of the Pacific Northwest with a classic green salad\, luncheon entrées (miso-glazed salmon or vegetarian cauliflower cicada)\, and dessert for all attendees. There will also be gift basket giveaways courtesy of Seattle Opera Guild. \nOur luncheon has a cash bar with wine\, beer\, cocktails and non-alcoholic drinks. \nFor more information\, please contact Patricia D. Pavia. \n  \nParking\nThe WAC parking garage is located one block north of the Clubhouse\, just past Union Street on the left at 1409 6th Avenue. You can park your car safely and conveniently in the WAC parking garage. The WAC parking garage is not currently offering valet service. \n206.464.3059 \nWeekend and Holiday* rates:\nHours | Member Self | Public Self\n2–4 | $13 | $18 \n  \nPayment\n\n\n\n\nAnnual Meeting and Luncheon RSVP\n\n\n\n\n\n\n\n\n    Member Name ($55)\n        \n    \n    \n    \n    \n\n\n    Meal\n        \n    \n    					\n					 Miso-glazed salmon\n					\n					 Vegetarian cauliflower cicada\n\n    \n    \n\n\n    Member Name ($55)\n        \n    \n    \n    \n    \n\n\n    Meal\n        \n    \n    					\n					 Miso-glazed salmon\n					\n					 Vegetarian cauliflower cicada\n\n    \n    \n\n\n    Guest Name ($55)\n        \n    \n    \n    \n    \n\n\n    Meal\n        \n    \n    					\n					 Miso-glazed salmon\n					\n					 Vegetarian cauliflower cicada\n\n    \n    \n\n\n    Guest Name ($55)\n        \n    \n    \n    \n    \n\n\n    Meal\n        \n    \n    					\n					 Miso-glazed salmon\n					\n					 Vegetarian cauliflower cicada\n\n    \n    \n\n\n    Your Phone Number\n        \n    \n    \n    \n    \n\n\n    Your Email Address\n        \n    \n    \n    \n    \n\n\nPayment\n\n\n\n    Ticket Payment\n        *\n    \n    \n    $55 for each member or guest\n    \n\n\n    Optional Donation\n        \n    \n    \n    I am unable to attend but would like to support the Seattle Opera Guild with a tax-deductible donation\n    \n\n\n	\n			\n			\n				If you are human\, leave this field blank.			\n			\n		\n		\n\nSubmit
URL:https://seattleoperaguild.org/calendar/annual-meeting-2023/
LOCATION:Washington Athletic Club\, 1325 6th Ave\, Seattle\, WA\, 98101\, United States
CATEGORIES:Operating Meeting,SOG Event
ATTACH;FMTTYPE=image/jpeg:https://seattleoperaguild.org/wp-content/uploads/2023/05/Screen-Shot-2023-06-08-at-8.58.48-AM-1.jpg
END:VEVENT
BEGIN:VEVENT
DTSTART;TZID=America/Los_Angeles:20220611T110000
DTEND;TZID=America/Los_Angeles:20220611T150000
DTSTAMP:20260423T191402
CREATED:20220506T010420Z
LAST-MODIFIED:20220506T010420Z
UID:18991-1654945200-1654959600@seattleoperaguild.org
SUMMARY:64th Annual Meeting & Luncheon
DESCRIPTION:You are cordially invited to attend our 64th Annual Meeting & Luncheon on Saturday\, June 11\, 2022 (11:00 am.–3:00 p.m.) at the Seattle Yacht Club (1807 East Hamlin Street Seattle\, Washington 98112). \nEntertainment by Aria Manning\, soprano; Celeste Fraser\, soprano; and Austin Allen\, bass-baritone\, accompanied by Lisa Bergman. \nFor more information\, call Patricia D. Pavia at 203.414.3083 or pdpavia41@gmail.com. \n\n\n\n\n\n\nPlease complete reservation and payment form below. If you prefer to pay by check\, you may download and print a reservation form. Reservations due no later than Friday\, June 3rd \n\n\n\n\n\n\n\nAnnual Meeting and Luncheon RSVP\nAnnual Meeting and Luncheon RSVP\n\n\n\n\n\n\n\n    Member Name ($55)\n        \n    \n    \n    \n    \n\n\n    Meal\n        \n    \n    					\n					 Chicken (Gluten Free)\n					\n					 Salmon\n					\n					 Pasta with Seasonal Vegetables (Vegetarian)\n\n    \n    \n\n\n    Member Name ($55)\n        \n    \n    \n    \n    \n\n\n    Meal\n        \n    \n    					\n					 Chicken (Gluten Free)\n					\n					 Salmon\n					\n					 Pasta with Seasonal Vegetables (Vegetarian)\n\n    \n    \n\n\n    Guest Name ($50)\n        \n    \n    \n    \n    \n\n\n    Meal\n        \n    \n    					\n					 Chicken (Gluten Free)\n					\n					 Salmon\n					\n					 Pasta with Seasonal Vegetables (Vegetarian)\n\n    \n    \n\n\n    Guest Name ($50)\n        \n    \n    \n    \n    \n\n\n    Meal\n        \n    \n    					\n					 Chicken (Gluten Free)\n					\n					 Salmon\n					\n					 Pasta with Seasonal Vegetables (Vegetarian)\n\n    \n    \n\n\n    Your Phone Number\n        \n    \n    \n    \n    \n\n\n    Your Email Address\n        \n    \n    \n    \n    \n\n\nPayment\n\n\n\n    Ticket Payment\n        *\n    \n    \n    $55 for each member\, $50 for each guest\n    \n\n\n    Optional Donation\n        \n    \n    \n    I am unable to attend but would like to support the Seattle Opera Guild with a tax-deductible donation\n    \n\n\n	\n			\n			\n				If you are human\, leave this field blank.			\n			\n		\n		\n\nSubmit
URL:https://seattleoperaguild.org/calendar/64th-annual-meeting-luncheon/
LOCATION:Seattle Yacht Club\, 1807 E Hamlin St\, Seattle\, WA\, 98112\, United States
CATEGORIES:Operating Meeting,SOG Event
ATTACH;FMTTYPE=image/png:https://seattleoperaguild.org/wp-content/uploads/2022/05/Screen-Shot-2022-05-05-at-7.48.45-PM.png
END:VEVENT
BEGIN:VEVENT
DTSTART;TZID=America/Los_Angeles:20191104T110000
DTEND;TZID=America/Los_Angeles:20191104T133000
DTSTAMP:20260423T191402
CREATED:20190124T023315Z
LAST-MODIFIED:20190124T023315Z
UID:1251-1572865200-1572874200@seattleoperaguild.org
SUMMARY:Board Meeting
DESCRIPTION:
URL:https://seattleoperaguild.org/calendar/board-meeting-17/
LOCATION:WA
CATEGORIES:Operating Meeting
END:VEVENT
BEGIN:VEVENT
DTSTART;TZID=America/Los_Angeles:20191007T110000
DTEND;TZID=America/Los_Angeles:20191007T133000
DTSTAMP:20260423T191402
CREATED:20190124T023008Z
LAST-MODIFIED:20190124T023008Z
UID:1249-1570446000-1570455000@seattleoperaguild.org
SUMMARY:Board Meeting
DESCRIPTION:
URL:https://seattleoperaguild.org/calendar/board-meeting-16/
LOCATION:WA
CATEGORIES:Operating Meeting
END:VEVENT
BEGIN:VEVENT
DTSTART;TZID=America/Los_Angeles:20190909T110000
DTEND;TZID=America/Los_Angeles:20190909T133000
DTSTAMP:20260423T191402
CREATED:20190124T024002Z
LAST-MODIFIED:20190124T024002Z
UID:1263-1568026800-1568035800@seattleoperaguild.org
SUMMARY:Board Meeting
DESCRIPTION:
URL:https://seattleoperaguild.org/calendar/board-meeting-23/
LOCATION:WA
CATEGORIES:Operating Meeting
END:VEVENT
BEGIN:VEVENT
DTSTART;TZID=America/Los_Angeles:20190506T110000
DTEND;TZID=America/Los_Angeles:20190506T133000
DTSTAMP:20260423T191402
CREATED:20190123T231926Z
LAST-MODIFIED:20190123T231926Z
UID:1244-1557140400-1557149400@seattleoperaguild.org
SUMMARY:Board Meeting
DESCRIPTION:
URL:https://seattleoperaguild.org/calendar/board-meeting-14/
LOCATION:WA
CATEGORIES:Operating Meeting
END:VEVENT
BEGIN:VEVENT
DTSTART;TZID=America/Los_Angeles:20190401T110000
DTEND;TZID=America/Los_Angeles:20190401T133000
DTSTAMP:20260423T191402
CREATED:20190123T231854Z
LAST-MODIFIED:20190123T231854Z
UID:1242-1554116400-1554125400@seattleoperaguild.org
SUMMARY:Board Meeting
DESCRIPTION:
URL:https://seattleoperaguild.org/calendar/board-meeting-13/
LOCATION:WA
CATEGORIES:Operating Meeting
END:VEVENT
BEGIN:VEVENT
DTSTART;TZID=America/Los_Angeles:20190304T110000
DTEND;TZID=America/Los_Angeles:20190304T133000
DTSTAMP:20260423T191402
CREATED:20190123T231818Z
LAST-MODIFIED:20190123T231818Z
UID:1240-1551697200-1551706200@seattleoperaguild.org
SUMMARY:Board Meeting
DESCRIPTION:
URL:https://seattleoperaguild.org/calendar/board-meeting-12/
LOCATION:WA
CATEGORIES:Operating Meeting
END:VEVENT
BEGIN:VEVENT
DTSTART;TZID=America/Los_Angeles:20190219T110000
DTEND;TZID=America/Los_Angeles:20190219T133000
DTSTAMP:20260423T191402
CREATED:20190123T231724Z
LAST-MODIFIED:20190123T231724Z
UID:1236-1550574000-1550583000@seattleoperaguild.org
SUMMARY:Board Meeting
DESCRIPTION:
URL:https://seattleoperaguild.org/calendar/board-meeting-11/
LOCATION:WA
CATEGORIES:Operating Meeting
END:VEVENT
BEGIN:VEVENT
DTSTART;TZID=America/Los_Angeles:20190123T110000
DTEND;TZID=America/Los_Angeles:20190123T133000
DTSTAMP:20260423T191402
CREATED:20190124T022929Z
LAST-MODIFIED:20190124T022929Z
UID:1247-1548241200-1548250200@seattleoperaguild.org
SUMMARY:Board Meeting
DESCRIPTION:
URL:https://seattleoperaguild.org/calendar/board-meeting-15/
LOCATION:WA
CATEGORIES:Operating Meeting
END:VEVENT
BEGIN:VEVENT
DTSTART;TZID=America/Los_Angeles:20190107T103000
DTEND;TZID=America/Los_Angeles:20190107T143000
DTSTAMP:20260423T191402
CREATED:20180727T223908Z
LAST-MODIFIED:20180727T223908Z
UID:932-1546857000-1546871400@seattleoperaguild.org
SUMMARY:Board Meeting
DESCRIPTION:Executive Committee Meeting: 10:30am-12:30pm\nPreview Chairs’ Joint Meeting: 12:30pm-2:30pm \nContact: Nick Elder at 425-770-7750 or nickelder@msn.com \nMembers\, please bring your lunch; coffee and dessert provided.
URL:https://seattleoperaguild.org/calendar/board-meeting-6/
LOCATION:WA
CATEGORIES:Operating Meeting
END:VEVENT
BEGIN:VEVENT
DTSTART;TZID=America/Los_Angeles:20181012T103000
DTEND;TZID=America/Los_Angeles:20181012T143000
DTSTAMP:20260423T191402
CREATED:20180727T223554Z
LAST-MODIFIED:20180727T223554Z
UID:924-1539340200-1539354600@seattleoperaguild.org
SUMMARY:Board Meeting
DESCRIPTION:Executive Committee Meeting: 10:30am-12:30pm\nPreview Chairs’ Joint Meeting: 12:30pm-2:30pm \nContact: Nick Elder at 425-770-7750 or nickelder@msn.com \nMembers\, please bring your lunch; coffee and dessert provided.
URL:https://seattleoperaguild.org/calendar/board-meeting-3/
LOCATION:WA
CATEGORIES:Operating Meeting
END:VEVENT
BEGIN:VEVENT
DTSTART;TZID=America/Los_Angeles:20180910T103000
DTEND;TZID=America/Los_Angeles:20180910T143000
DTSTAMP:20260423T191402
CREATED:20180727T223625Z
LAST-MODIFIED:20180727T223625Z
UID:925-1536575400-1536589800@seattleoperaguild.org
SUMMARY:Board Meeting
DESCRIPTION:Executive Committee Meeting: 10:30am-12:30pm\nPreview Chairs’ Joint Meeting: 12:30pm-2:30pm \nContact: Nick Elder at 425-770-7750 or nickelder@msn.com \nMembers\, please bring your lunch; coffee and dessert provided.
URL:https://seattleoperaguild.org/calendar/board-meeting-4/
LOCATION:WA
CATEGORIES:Operating Meeting
END:VEVENT
BEGIN:VEVENT
DTSTART;TZID=America/Los_Angeles:20180822T110000
DTEND;TZID=America/Los_Angeles:20180822T140000
DTSTAMP:20260423T191402
CREATED:20180727T223019Z
LAST-MODIFIED:20180727T223019Z
UID:922-1534935600-1534946400@seattleoperaguild.org
SUMMARY:Preview Chairs’ Potluck Meeting
DESCRIPTION:
URL:https://seattleoperaguild.org/calendar/preview-chairs-potluck-meeting/
LOCATION:WA
CATEGORIES:Operating Meeting
END:VEVENT
BEGIN:VEVENT
DTSTART;TZID=America/Los_Angeles:20180108T123000
DTEND;TZID=America/Los_Angeles:20180108T140000
DTSTAMP:20260423T191402
CREATED:20171027T205557Z
LAST-MODIFIED:20171027T205557Z
UID:192-1515414600-1515420000@seattleoperaguild.org
SUMMARY:Board Meeting
DESCRIPTION:
URL:https://seattleoperaguild.org/calendar/board-meeting-2/
LOCATION:WA
CATEGORIES:Operating Meeting
END:VEVENT
BEGIN:VEVENT
DTSTART;TZID=America/Los_Angeles:20180108T103000
DTEND;TZID=America/Los_Angeles:20180108T170000
DTSTAMP:20260423T191402
CREATED:20171027T205523Z
LAST-MODIFIED:20171027T205523Z
UID:189-1515407400-1515430800@seattleoperaguild.org
SUMMARY:Executive Committee Meeting
DESCRIPTION:
URL:https://seattleoperaguild.org/calendar/executive-committee-meeting/
LOCATION:WA
CATEGORIES:Operating Meeting
END:VEVENT
BEGIN:VEVENT
DTSTART;TZID=America/Los_Angeles:20171106T123000
DTEND;TZID=America/Los_Angeles:20171106T140000
DTSTAMP:20260423T191402
CREATED:20171027T152604Z
LAST-MODIFIED:20171027T152604Z
UID:179-1509971400-1509976800@seattleoperaguild.org
SUMMARY:Board Meeting
DESCRIPTION:
URL:https://seattleoperaguild.org/calendar/board-meeting/
LOCATION:WA
CATEGORIES:Operating Meeting
END:VEVENT
BEGIN:VEVENT
DTSTART;TZID=America/Los_Angeles:20171106T103000
DTEND;TZID=America/Los_Angeles:20171106T120000
DTSTAMP:20260423T191402
CREATED:20171027T205430Z
LAST-MODIFIED:20171027T205430Z
UID:187-1509964200-1509969600@seattleoperaguild.org
SUMMARY:Executive Committee Meeting
DESCRIPTION:
URL:https://seattleoperaguild.org/calendar/executive-meeting/
LOCATION:WA
CATEGORIES:Operating Meeting
END:VEVENT
END:VCALENDAR