BEGIN:VCALENDAR
VERSION:2.0
PRODID:-//Seattle Opera Guild - ECPv6.15.20//NONSGML v1.0//EN
CALSCALE:GREGORIAN
METHOD:PUBLISH
X-ORIGINAL-URL:https://seattleoperaguild.org
X-WR-CALDESC:Events for Seattle Opera Guild
REFRESH-INTERVAL;VALUE=DURATION:PT1H
X-Robots-Tag:noindex
X-PUBLISHED-TTL:PT1H
BEGIN:VTIMEZONE
TZID:America/Los_Angeles
BEGIN:DAYLIGHT
TZOFFSETFROM:-0800
TZOFFSETTO:-0700
TZNAME:PDT
DTSTART:20250309T100000
END:DAYLIGHT
BEGIN:STANDARD
TZOFFSETFROM:-0700
TZOFFSETTO:-0800
TZNAME:PST
DTSTART:20251102T090000
END:STANDARD
BEGIN:DAYLIGHT
TZOFFSETFROM:-0800
TZOFFSETTO:-0700
TZNAME:PDT
DTSTART:20260308T100000
END:DAYLIGHT
BEGIN:STANDARD
TZOFFSETFROM:-0700
TZOFFSETTO:-0800
TZNAME:PST
DTSTART:20261101T090000
END:STANDARD
BEGIN:DAYLIGHT
TZOFFSETFROM:-0800
TZOFFSETTO:-0700
TZNAME:PDT
DTSTART:20270314T100000
END:DAYLIGHT
BEGIN:STANDARD
TZOFFSETFROM:-0700
TZOFFSETTO:-0800
TZNAME:PST
DTSTART:20271107T090000
END:STANDARD
END:VTIMEZONE
BEGIN:VEVENT
DTSTART;TZID=America/Los_Angeles:20260213T170000
DTEND;TZID=America/Los_Angeles:20260213T200000
DTSTAMP:20260423T202816
CREATED:20260125T164037Z
LAST-MODIFIED:20260203T235516Z
UID:20300-1771002000-1771012800@seattleoperaguild.org
SUMMARY:"Fellow Travelers" Preview
DESCRIPTION:Seattle Opera Guild cordially invites you to the preview for Fellow Travelers. \nFrom Dupont Circle to Dupont Circle\, trace the journey of this original contemporary opera through a talk by Seattle Opera dramaturg Jonathan Dean\, followed by a musical program that includes arias from this moving story. \nFriday\, February 13\n5–8 p.m. \nRaisbeck Home\n7536 Seward Park Ave\nSeattle\, WA \n$150/person. Ample parking on premises. Hors d’oeuvres and beverages will be served. \nGet Tickets
URL:https://seattleoperaguild.org/calendar/fellow-travelers-preview/
LOCATION:Raisbeck Home\, 7536 Seward Park Ave\, Seattle\, WA\, 98118\, United States
CATEGORIES:Preview Group,SOG Event
ATTACH;FMTTYPE=image/jpeg:https://seattleoperaguild.org/wp-content/uploads/2026/01/Adobe-Stock-two-men-walking.jpg
END:VEVENT
END:VCALENDAR