BEGIN:VCALENDAR
VERSION:2.0
PRODID:-//Seattle Opera Guild - ECPv6.15.20//NONSGML v1.0//EN
CALSCALE:GREGORIAN
METHOD:PUBLISH
X-WR-CALNAME:Seattle Opera Guild
X-ORIGINAL-URL:https://seattleoperaguild.org
X-WR-CALDESC:Events for Seattle Opera Guild
REFRESH-INTERVAL;VALUE=DURATION:PT1H
X-Robots-Tag:noindex
X-PUBLISHED-TTL:PT1H
BEGIN:VTIMEZONE
TZID:America/Los_Angeles
BEGIN:DAYLIGHT
TZOFFSETFROM:-0800
TZOFFSETTO:-0700
TZNAME:PDT
DTSTART:20170312T100000
END:DAYLIGHT
BEGIN:STANDARD
TZOFFSETFROM:-0700
TZOFFSETTO:-0800
TZNAME:PST
DTSTART:20171105T090000
END:STANDARD
BEGIN:DAYLIGHT
TZOFFSETFROM:-0800
TZOFFSETTO:-0700
TZNAME:PDT
DTSTART:20180311T100000
END:DAYLIGHT
BEGIN:STANDARD
TZOFFSETFROM:-0700
TZOFFSETTO:-0800
TZNAME:PST
DTSTART:20181104T090000
END:STANDARD
BEGIN:DAYLIGHT
TZOFFSETFROM:-0800
TZOFFSETTO:-0700
TZNAME:PDT
DTSTART:20190310T100000
END:DAYLIGHT
BEGIN:STANDARD
TZOFFSETFROM:-0700
TZOFFSETTO:-0800
TZNAME:PST
DTSTART:20191103T090000
END:STANDARD
BEGIN:DAYLIGHT
TZOFFSETFROM:-0800
TZOFFSETTO:-0700
TZNAME:PDT
DTSTART:20200308T100000
END:DAYLIGHT
BEGIN:STANDARD
TZOFFSETFROM:-0700
TZOFFSETTO:-0800
TZNAME:PST
DTSTART:20201101T090000
END:STANDARD
BEGIN:DAYLIGHT
TZOFFSETFROM:-0800
TZOFFSETTO:-0700
TZNAME:PDT
DTSTART:20210314T100000
END:DAYLIGHT
BEGIN:STANDARD
TZOFFSETFROM:-0700
TZOFFSETTO:-0800
TZNAME:PST
DTSTART:20211107T090000
END:STANDARD
BEGIN:DAYLIGHT
TZOFFSETFROM:-0800
TZOFFSETTO:-0700
TZNAME:PDT
DTSTART:20220313T100000
END:DAYLIGHT
BEGIN:STANDARD
TZOFFSETFROM:-0700
TZOFFSETTO:-0800
TZNAME:PST
DTSTART:20221106T090000
END:STANDARD
BEGIN:DAYLIGHT
TZOFFSETFROM:-0800
TZOFFSETTO:-0700
TZNAME:PDT
DTSTART:20230312T100000
END:DAYLIGHT
BEGIN:STANDARD
TZOFFSETFROM:-0700
TZOFFSETTO:-0800
TZNAME:PST
DTSTART:20231105T090000
END:STANDARD
END:VTIMEZONE
BEGIN:VEVENT
DTSTART;TZID=America/Los_Angeles:20220424T133000
DTEND;TZID=America/Los_Angeles:20220424T160000
DTSTAMP:20260423T185158
CREATED:20220329T155820Z
LAST-MODIFIED:20220329T155820Z
UID:18951-1650807000-1650816000@seattleoperaguild.org
SUMMARY:Preview of Marriage of Figaro
DESCRIPTION:Seattle Opera Guild cordially invites you to our all-guild preview of Mozart’s Marriage of Figaro on Sunday\, April 24\, 2022\, 1:30–4:00 p.m. Join us at Cogir of Queen Anne (805 4th Avenue North Seattle\, WA 98109). \nHors D’Oeuvres\, Drinks & Entertainment \n$45.00 for members / $40.00 for guests \nRSVP no later than April 18\, 2022 by mailing a check to PO Box 5745\, Lynnwood\, WA 98046 or by paying online.
URL:https://seattleoperaguild.org/calendar/preview-of-marriage-of-figaro/
LOCATION:Cogir of Queen Anne\, 805 4th Avenue North\, Seattle\, WA\, 98109\, United States
CATEGORIES:Preview Group,SOG Event
ATTACH;FMTTYPE=image/png:https://seattleoperaguild.org/wp-content/uploads/2022/03/Screen-Shot-2022-03-29-at-11.43.00-AM.png
END:VEVENT
BEGIN:VEVENT
DTSTART;TZID=America/Los_Angeles:20211010T133000
DTEND;TZID=America/Los_Angeles:20211010T160000
DTSTAMP:20260423T185158
CREATED:20210913T181913Z
LAST-MODIFIED:20210913T181913Z
UID:18838-1633872600-1633881600@seattleoperaguild.org
SUMMARY:Welcome Back Preview of La Bohème
DESCRIPTION:Seattle Opera Guild Cordially Invites You to Our Welcome Back Preview of Puccini’s La Bohème \n\n\n\n\nSunday\, October 10\, 2021\n1:30PM – 4:00PM \nCogir of Queen Anne\n805 4th Avenue North\nSeattle\, WA 98109 \nHors D’Oeuvres\, Drinks & Entertainment\nCost: $45.00 for members / $40.00 for guests \nPlease reserve no later than October 3rd\, 2021 by mailing a check or by PayPal. \nDirections & Covid Guidelines will follow in an email “Blast”
URL:https://seattleoperaguild.org/calendar/welcome-back-preview-of-la-boheme/
LOCATION:Cogir of Queen Anne\, 805 4th Avenue North\, Seattle\, WA\, 98109\, United States
CATEGORIES:Preview Group
ATTACH;FMTTYPE=image/png:https://seattleoperaguild.org/wp-content/uploads/2021/09/Screen-Shot-2021-09-13-at-1.38.10-PM.png
END:VEVENT
BEGIN:VEVENT
DTSTART;TZID=America/Los_Angeles:20190420T164500
DTEND;TZID=America/Los_Angeles:20190420T190000
DTSTAMP:20260423T185158
CREATED:20190307T200420Z
LAST-MODIFIED:20190307T200420Z
UID:1320-1555778700-1555786800@seattleoperaguild.org
SUMMARY:Carmen: Amici
DESCRIPTION:Arrival: 4:45pm\nProgram: 5:00pm\nDinner & Auction: 6:00pm \nRSVP to:\nPenny Wade: 206.938.5949\, penny.wade@comcast.net\n Maria Van Horn: 206.354.9132\, mcvho4@yahoo.com \nFor last-minute driving directions\, call 206.407.1700
URL:https://seattleoperaguild.org/calendar/carmen-amici/
LOCATION:WA
CATEGORIES:Preview Group
END:VEVENT
BEGIN:VEVENT
DTSTART;TZID=America/Los_Angeles:20190228T110000
DTEND;TZID=America/Los_Angeles:20190228T140000
DTSTAMP:20260423T185158
CREATED:20181116T183342Z
LAST-MODIFIED:20181116T183342Z
UID:1205-1551351600-1551362400@seattleoperaguild.org
SUMMARY:The Revolution of Steve Jobs: Amici
DESCRIPTION:Arrival: 11am\nBusiness Meeting: 11:30am\nPreview: Noon\nLunch: 1pm \nRSVP to Penny Wade (206.938.5949) or Maria Van Horn (206.354.9132 or mcvho4@yahoo.com).
URL:https://seattleoperaguild.org/calendar/the-revolution-of-steve-jobs-amici/
LOCATION:WA
CATEGORIES:Preview Group
END:VEVENT
BEGIN:VEVENT
DTSTART;TZID=America/Los_Angeles:20190222T183000
DTEND;TZID=America/Los_Angeles:20190222T213000
DTSTAMP:20260423T185158
CREATED:20181116T183646Z
LAST-MODIFIED:20181116T183646Z
UID:1208-1550860200-1550871000@seattleoperaguild.org
SUMMARY:The Revolution of Steve Jobs: Parties & Previews
DESCRIPTION:Social: 6:30pm\nDinner: 7:30pm\nProgram: 8:30pm \nRSVP to: Sandra Boyd (425.450.0671 or sfboyd10@gmail.com) \nCOST: Seattle Opera Guild Members: $35.00\nGuests / Non-Members: $40.00\nTo join: http://seattleoperaguild.org/join-us/ \nRSVP: Deadline Feb 17\, 2019 (Sunday) 6:00pm\n1) CHECKS payable to Parties & Previews: c/o EMILY MATTSON\, 6808 19TH AVE NE\, SEATTLE\, WA 98115\n2) zellepay.com emilyrents@hotmail.com\n3) VENMO EMILY-RENTS\n4) PAYPAL emilyrents@hotmail.com \nCall 206.220.7121 for last-minute driving directions
URL:https://seattleoperaguild.org/calendar/the-revolution-of-steve-jobs-parties-previews/
LOCATION:WA
CATEGORIES:Preview Group
END:VEVENT
BEGIN:VEVENT
DTSTART;TZID=America/Los_Angeles:20190217T160000
DTEND;TZID=America/Los_Angeles:20190217T180000
DTSTAMP:20260423T185158
CREATED:20181116T183008Z
LAST-MODIFIED:20181116T183008Z
UID:1203-1550419200-1550426400@seattleoperaguild.org
SUMMARY:The Revolution of Steve Jobs: Bellini
DESCRIPTION:Arrival: 4:00pm (social hour)\nProgram: 5:00pm \nRSVP to: Sally Buckingham (425.293.4510 or sally.buckingham21@gmail.com) or Marlene Holbrook (425.218.6230 or marlenedarmar@aol.com) \nCall 425.293.4510 for last-minute driving directions.
URL:https://seattleoperaguild.org/calendar/the-revolution-of-steve-jobs-bellini/
LOCATION:WA
CATEGORIES:Preview Group
END:VEVENT
BEGIN:VEVENT
DTSTART;VALUE=DATE:20190217
DTEND;VALUE=DATE:20190218
DTSTAMP:20260423T185158
CREATED:20181116T185158Z
LAST-MODIFIED:20181116T185158Z
UID:1218-1550361600-1550447999@seattleoperaguild.org
SUMMARY:The Revolution of Steve Jobs: Mercer Island
DESCRIPTION:Details TBA \nContact: Agi Day (425.590.9211 or agiday@comcast.net)
URL:https://seattleoperaguild.org/calendar/the-revolution-of-steve-jobs-mercer-island/
LOCATION:WA
CATEGORIES:Preview Group
END:VEVENT
BEGIN:VEVENT
DTSTART;TZID=America/Los_Angeles:20190216T180000
DTEND;TZID=America/Los_Angeles:20190216T210000
DTSTAMP:20260423T185158
CREATED:20181116T185051Z
LAST-MODIFIED:20181116T185051Z
UID:1216-1550340000-1550350800@seattleoperaguild.org
SUMMARY:The Revolution of Steve Jobs: Magnolia/Queen Anne
DESCRIPTION:Arrival: 6:00pm\nProgram: 8:00pm \nPlease RSVP to: Florence Rose Thompson (206.915.7829 mobile\, 206.285.6510 home\, or ffrose@comcast.net) \nCall 206.284.0055 for last-minute driving directions
URL:https://seattleoperaguild.org/calendar/the-revolution-of-steve-jobs-magnolia-queen-anne/
LOCATION:WA
CATEGORIES:Preview Group
END:VEVENT
BEGIN:VEVENT
DTSTART;TZID=America/Los_Angeles:20190216T163000
DTEND;TZID=America/Los_Angeles:20190216T183000
DTSTAMP:20260423T185158
CREATED:20181116T184754Z
LAST-MODIFIED:20181116T184754Z
UID:1213-1550334600-1550341800@seattleoperaguild.org
SUMMARY:The Revolution of Steve Jobs: Allegro
DESCRIPTION:Social: 4:30pm\nProgram: 5:30pm \nContact:  Gayle Charlesworth (253.639.1423 or gaylewings@gmail.com) \nCall 253.874.6525 for last-minute driving directions.
URL:https://seattleoperaguild.org/calendar/the-revolution-of-steve-jobs-allegro/
LOCATION:WA
CATEGORIES:Preview Group
END:VEVENT
BEGIN:VEVENT
DTSTART;TZID=America/Los_Angeles:20190111T183000
DTEND;TZID=America/Los_Angeles:20190111T213000
DTSTAMP:20260423T185158
CREATED:20181029T135411Z
LAST-MODIFIED:20181029T135411Z
UID:1197-1547231400-1547242200@seattleoperaguild.org
SUMMARY:Il Trovatore: Parties & Previews
DESCRIPTION:Social: 6:30pm\nDinner: 7:30pm\nProgram: 8:30pm \nRSVP to Sandra Boyd (425.450.0671 or sfboyd10@gmail.com) \nPlease call 206.407.1700 for last-minute driving directions. \n*Valet Parking
URL:https://seattleoperaguild.org/calendar/il-trovatore-parties-previews/
LOCATION:WA
CATEGORIES:Preview Group
END:VEVENT
BEGIN:VEVENT
DTSTART;TZID=America/Los_Angeles:20190110T101500
DTEND;TZID=America/Los_Angeles:20190110T130000
DTSTAMP:20260423T185158
CREATED:20181029T134530Z
LAST-MODIFIED:20181029T134530Z
UID:1188-1547115300-1547125200@seattleoperaguild.org
SUMMARY:Il Trovatore: Amici
DESCRIPTION:Arrival: 10:15am\nBusiness Meeting: 10:30am\nPreview: 11:00am\nLunch: noon \nContact: Penny Wade (206.938.5949) or Maria Van Horn (206.354.9132 or mcvho4@yahoo.com) \nPlease call 206.407.1700 for last-minute driving directions. \n*Valet parking
URL:https://seattleoperaguild.org/calendar/il-trovatore-amici/
LOCATION:WA
CATEGORIES:Preview Group
END:VEVENT
BEGIN:VEVENT
DTSTART;TZID=America/Los_Angeles:20190106T140000
DTEND;TZID=America/Los_Angeles:20190106T160000
DTSTAMP:20260423T185158
CREATED:20181029T135131Z
LAST-MODIFIED:20181029T135131Z
UID:1195-1546783200-1546790400@seattleoperaguild.org
SUMMARY:Il Trovatore: Mercer Island
DESCRIPTION:Location TBA \nArrival: 2:00pm\nProgram: 3:00pm \nContact: Agi Day (425.590.9211 or agiday@comcast.net)
URL:https://seattleoperaguild.org/calendar/il-trovatore-mercer-island/
LOCATION:WA
CATEGORIES:Preview Group
END:VEVENT
BEGIN:VEVENT
DTSTART;TZID=America/Los_Angeles:20190106T130000
DTEND;TZID=America/Los_Angeles:20190106T150000
DTSTAMP:20260423T185158
CREATED:20181029T134234Z
LAST-MODIFIED:20181029T134234Z
UID:1185-1546779600-1546786800@seattleoperaguild.org
SUMMARY:Il Trovatore: Bellini
DESCRIPTION:Arrival: 1:00pm (appetizers and beverages)\nPreview: 1:30pm\nDessert: 2:30pm \nCost: $25 for members and guests \nPlease RSVP to: Sally Buckingham (425.293.4510)\, Marlene Holbrook (425.218.6230)\, or Suzy Wakefield (425.828.6186) \nPlease call 206.328.2262 for last-minute driving directions.
URL:https://seattleoperaguild.org/calendar/il-trovatore-bellini/
LOCATION:WA
CATEGORIES:Preview Group
END:VEVENT
BEGIN:VEVENT
DTSTART;TZID=America/Los_Angeles:20190105T180000
DTEND;TZID=America/Los_Angeles:20190105T210000
DTSTAMP:20260423T185158
CREATED:20181029T134955Z
LAST-MODIFIED:20181029T134955Z
UID:1193-1546711200-1546722000@seattleoperaguild.org
SUMMARY:Il Trovatore: Magnolia/Queen Anne
DESCRIPTION:Arrival: 6:00pm\nProgram: 8:00pm \nRSVP to Florence Rose Thompson at 206.915.7829 (mobile)\, 206.285.6510 (home)\, or ffrose@comcast.net \nPlease call 206.284.0055 for last-minute driving directions.
URL:https://seattleoperaguild.org/calendar/il-trovatore-magnolia-queen-anne/
LOCATION:WA
CATEGORIES:Preview Group
END:VEVENT
BEGIN:VEVENT
DTSTART;TZID=America/Los_Angeles:20190105T163000
DTEND;TZID=America/Los_Angeles:20190105T183000
DTSTAMP:20260423T185158
CREATED:20181029T134730Z
LAST-MODIFIED:20181029T134730Z
UID:1190-1546705800-1546713000@seattleoperaguild.org
SUMMARY:Il Trovatore: Allegro
DESCRIPTION:Social: 4:30pm\nProgram: 5:30pm \nContact:  Gayle Charlesworth (253.639.1423 or gaylewings@gmail.com) \nPlease call 253.639.1423 for last-minute driving directions.
URL:https://seattleoperaguild.org/calendar/il-trovatore-allegro/
LOCATION:WA
CATEGORIES:Preview Group
END:VEVENT
BEGIN:VEVENT
DTSTART;TZID=America/Los_Angeles:20190104T123000
DTEND;TZID=America/Los_Angeles:20190104T150000
DTSTAMP:20260423T185158
CREATED:20181029T133849Z
LAST-MODIFIED:20181029T133849Z
UID:1182-1546605000-1546614000@seattleoperaguild.org
SUMMARY:Il Trovatore: Vivace
DESCRIPTION:Social: 12:30pm (brunch)\nMeeting: 1:30pm\nPreview:  2:00pm \nContact: Emily Bennett at 425.486.5036 or epbennett@msn.com \nPlease call 425.486.5036 for last-minute driving directions.
URL:https://seattleoperaguild.org/calendar/il-trovatore-vivace/
LOCATION:WA
CATEGORIES:Preview Group
END:VEVENT
BEGIN:VEVENT
DTSTART;TZID=America/Los_Angeles:20181007T140000
DTEND;TZID=America/Los_Angeles:20181007T160000
DTSTAMP:20260423T185158
CREATED:20180727T221736Z
LAST-MODIFIED:20180727T221736Z
UID:920-1538920800-1538928000@seattleoperaguild.org
SUMMARY:The Turn of the Screw: Mercer Island
DESCRIPTION:Location TBD\nArrival: 2:00pm\nProgram: 3:00pm\nContact: Agi Day at 425-590-9211 or agiday@comcast.net
URL:https://seattleoperaguild.org/calendar/the-turn-of-the-screw-mercer-island/
LOCATION:WA
CATEGORIES:Preview Group
ATTACH;FMTTYPE=:
END:VEVENT
BEGIN:VEVENT
DTSTART;TZID=America/Los_Angeles:20181006T180000
DTEND;TZID=America/Los_Angeles:20181006T210000
DTSTAMP:20260423T185158
CREATED:20180727T221412Z
LAST-MODIFIED:20180727T221412Z
UID:918-1538848800-1538859600@seattleoperaguild.org
SUMMARY:The Turn of the Screw: Magnolia/Queen Anne
DESCRIPTION:Arrival: 6:00pm\nProgram: 8:00pm\nRSVP to Florence Rose Thompson at 206-915-7829 (mobile)\, 206-285-6510 (home)\, or ffrose@comcast.net \n  \nFor last-minute driving directions\, call 206-284-0055
URL:https://seattleoperaguild.org/calendar/the-turn-of-the-screw-magnolia-queen-anne/
LOCATION:WA
CATEGORIES:Preview Group
ATTACH;FMTTYPE=:
END:VEVENT
BEGIN:VEVENT
DTSTART;TZID=America/Los_Angeles:20181006T163000
DTEND;TZID=America/Los_Angeles:20181006T183000
DTSTAMP:20260423T185158
CREATED:20180727T221013Z
LAST-MODIFIED:20180727T221013Z
UID:916-1538843400-1538850600@seattleoperaguild.org
SUMMARY:The Turn of the Screw: Allegro
DESCRIPTION:Social: 4:30pm\nProgram: 5:40pm\nDessert: 5:00pm\nContact: Contact: Gayle Charlesworth at 253-639-1423 or gaylewings@gmail.com \n  \nFor last-minute driving directions\, call 253-277-3064
URL:https://seattleoperaguild.org/calendar/the-turn-of-the-screw-allegro/
LOCATION:WA
CATEGORIES:Preview Group
ATTACH;FMTTYPE=:
END:VEVENT
BEGIN:VEVENT
DTSTART;TZID=America/Los_Angeles:20181005T183000
DTEND;TZID=America/Los_Angeles:20181005T213000
DTSTAMP:20260423T185158
CREATED:20180727T220752Z
LAST-MODIFIED:20180727T220752Z
UID:914-1538764200-1538775000@seattleoperaguild.org
SUMMARY:The Turn of the Screw: Parties and Previews
DESCRIPTION:6:30pm: Social\n6:30pm: Social/No Host Bar\n7:30pm: English Dinner\n8:30pm: Program by professional singers:\n \nCost for SOG members: $35\nGuests/Nonmembers: $40\n \nChecks to: Emily Mattson\,\n6808 19th Ave NE\,\nSeattle\, WA 98115\n(206) 920-0588\nemilymattson@hotmail.com\n \nDownload a PDF flyer about the event here!
URL:https://seattleoperaguild.org/calendar/the-turn-of-the-screw-parties-and-previews/
LOCATION:WA
CATEGORIES:Preview Group
ATTACH;FMTTYPE=:
END:VEVENT
BEGIN:VEVENT
DTSTART;TZID=America/Los_Angeles:20181004T101500
DTEND;TZID=America/Los_Angeles:20181004T130000
DTSTAMP:20260423T185158
CREATED:20180727T220612Z
LAST-MODIFIED:20180727T220612Z
UID:912-1538648100-1538658000@seattleoperaguild.org
SUMMARY:The Turn of the Screw: Amici
DESCRIPTION:Arrival: 10:15am\nBusiness Meeting: 10:30am\nPreview: 11:00am\nLunch: noon \nContact: Maria Van Horn at 206-354-9132 or mcvho4@yahoo.com \nPlease call 206-407-1700 for last-minute driving directions.
URL:https://seattleoperaguild.org/calendar/the-turn-of-the-screw-amici/
LOCATION:WA
CATEGORIES:Preview Group
ATTACH;FMTTYPE=:
END:VEVENT
BEGIN:VEVENT
DTSTART;TZID=America/Los_Angeles:20180930T130000
DTEND;TZID=America/Los_Angeles:20180930T160000
DTSTAMP:20260423T185158
CREATED:20180727T220421Z
LAST-MODIFIED:20180727T220421Z
UID:906-1538312400-1538323200@seattleoperaguild.org
SUMMARY:The Turn of the Screw: Bellini
DESCRIPTION:Arrival: 1:00pm (appetizers and beverages)\nPreview: 2:00pm\nDessert: 3:00pm\nCost: $25 for members and guests\nPlease RSVP to Sally Buckingham at 425-293-4510 or sally.buckingham21@gmail.com \n  \nFor last-minute driving directions\, call 425-883-0033
URL:https://seattleoperaguild.org/calendar/the-turn-of-the-screw-bellini/
LOCATION:WA
CATEGORIES:Preview Group
ATTACH;FMTTYPE=:
END:VEVENT
BEGIN:VEVENT
DTSTART;TZID=America/Los_Angeles:20180915T143000
DTEND;TZID=America/Los_Angeles:20180915T173000
DTSTAMP:20260423T185158
CREATED:20180727T220005Z
LAST-MODIFIED:20180727T220005Z
UID:903-1537021800-1537032600@seattleoperaguild.org
SUMMARY:The Turn of the Screw: Vivace
DESCRIPTION:Social: 2:30pm (appetizers and wine)\nMeeting: 3:15pm\nPreview: 4:00pm\nDessert: 5:00pm\nContact: Emily Bennett at 425-486-5036 or epbennett@msn.com \n  \nFor last-minute driving directions\, call 425-485-5036
URL:https://seattleoperaguild.org/calendar/the-turn-of-the-screw-vivace/
LOCATION:WA
CATEGORIES:Preview Group
ATTACH;FMTTYPE=:
END:VEVENT
BEGIN:VEVENT
DTSTART;TZID=America/Los_Angeles:20180623T140000
DTEND;TZID=America/Los_Angeles:20180623T173000
DTSTAMP:20260423T185158
CREATED:20180411T020939Z
LAST-MODIFIED:20180411T020939Z
UID:832-1529762400-1529775000@seattleoperaguild.org
SUMMARY:Summertime!
DESCRIPTION:A Musical Preview by Seattle Opera’s Porgy and Bess Performers:\n• Ibidunni Ojikutu\n• Cheryse McLeod Lewis\n• Dierre Lopez\n• Li-Tan Hsu \n  \nSkyline at First Hill (725 9th Ave\, Seattle) \n• Reception in the SkyClub with Panoramic Views \n• Wine and Hors d’Oeuvres \n• Musical Preview \n• Free Valet Parking \n  \nSpace is limited: RSVP by June 13th with a check mailed to:\nNick Elder\n11905 Stendall Place North\nSeattle\, WA 98133 \nOr RSVP using the form below: \n  \n\n\n\n\nAll About Love Opera Party Payment\n\n\n\n\n\n\n\n\n    Your Name\n        *\n    \n    \n    \n    \n\n\n    Your Phone Number\n        \n    \n    \n    \n    \n\n\n    Your Email Address\n        \n    \n    \n    \n    \n\n\n    Number of Attendees\n        *\n    \n    \n    $45/guest\n    \n\n\n    Additional Donation (optional)\n        \n    \n    \n    I would like to support the Seattle Opera Guild with an additional tax-deductible donation.\n    \n\n\n    Total\n        \n    \n    $\n    \n    \n\n	\n			\n			\n				If you are human\, leave this field blank.			\n			\n		\n		\n\nSubmit
URL:https://seattleoperaguild.org/calendar/summertime/
LOCATION:WA
CATEGORIES:Preview Group,SOG Event
END:VEVENT
BEGIN:VEVENT
DTSTART;TZID=America/Los_Angeles:20180520T150000
DTEND;TZID=America/Los_Angeles:20180520T150000
DTSTAMP:20260423T185158
CREATED:20180411T014907Z
LAST-MODIFIED:20180411T014907Z
UID:813-1526828400-1526828400@seattleoperaguild.org
SUMMARY:Much Ado About Music
DESCRIPTION:Presented by preview groups Parties & Previews and Bellini. \nShowcasing Seattle Opera Guild scholarship singers Rachelle Moss\, Ksenia Popova\, Ibidunni Ojkutu\, and Charles Robert Stephens at Resonance at SOMA Towers (288 106th Avenue NE\, Suite 203 in Bellevue.) \n  \nMenu: Tea sandwiches\, chicken skewers\, fruit sticks\, fine cheeses and crackers\, grapes\, brownies and lemon bars with wine\, sparkling waters\, and punch. Complimentary Parking. \n  \n3:00 p.m. Social (Meet and mix with the singers) \n4:00 p.m. Program (Inspired by Shakespeare) \n  \nPlease RSVP by May 14 using the form below\, or by mailing a check to Sally Buckingham at:\nPO Box 5745\nLynnwood\, WA 98046 \n\n\n\n\nAnnual Holiday Luncheon RSVP\n\n\n\n\n\n\n\n\n    Member Name ($60)\n        \n    \n    \n    \n    \n\n\n    Meal\n        \n    \n    					\n					 Roasted Chicken w/ Pesto Rice Pilaf and Toasted Vegetables (GF)\n					\n					 Roasted Cauliflower w/ Garlic\, Parmesan and Tomato Confit (Veg)\n\n    \n    \n\n\n    Member Name ($60)\n        \n    \n    \n    \n    \n\n\n    Meal\n        \n    \n    					\n					 Roasted Chicken w/ Pesto Rice Pilaf and Toasted Vegetables (GF)\n					\n					 Roasted Cauliflower w/ Garlic\, Parmesan and Tomato Confit (Veg)\n\n    \n    \n\n\n    Guest Name ($55)\n        \n    \n    \n    \n    \n\n\n    Meal\n        \n    \n    					\n					 Roasted Chicken w/ Pesto Rice Pilaf and Toasted Vegetables (GF)\n					\n					 Roasted Cauliflower w/ Garlic\, Parmesan and Tomato Confit (Veg)\n\n    \n    \n\n\n    Guest Name ($55)\n        \n    \n    \n    \n    \n\n\n    Meal\n        \n    \n    					\n					 Roasted Chicken w/ Pesto Rice Pilaf and Toasted Vegetables (GF)\n					\n					 Roasted Cauliflower w/ Garlic\, Parmesan and Tomato Confit (Veg)\n\n    \n    \n\n\n    Your Phone Number\n        \n    \n    \n    \n    \n\n\n    Your Email Address\n        \n    \n    \n    \n    \n\n\nPayment\n\n\n\n    Ticket Price\n        *\n    \n    $\n    $60 for each member\, $55 for each guest\n    \n\n\n    # of Raffle Tickets (optional)\n        \n    \n    \n    Enter our raffle for a $100 Amazon Gift Card. $10/ticket. (Need not be present to win)\n    \n\n\n    Raffle Ticket Price\n        \n    \n     $\n    \n    \n\n\n    Donation (optional)\n        \n    \n    $\n    I am unable to attend but would like to support the Seattle Opera Guild with a tax-deductible donation\n    \n\n\n\nTotal Payment\n\n\n\n    Total\n        \n    \n    $\n    \n    \n\n\n	\n			\n			\n				If you are human\, leave this field blank.			\n			\n		\n		\n\nSubmit\n\n\n\n\n\n\n\n\n  \nQuestions? Please call Sally Buckingham at 425-293-4510
URL:https://seattleoperaguild.org/calendar/much-ado-about-music/
LOCATION:WA
CATEGORIES:Preview Group,SOG Event
END:VEVENT
BEGIN:VEVENT
DTSTART;TZID=America/Los_Angeles:20180428T180000
DTEND;TZID=America/Los_Angeles:20180428T180000
DTSTAMP:20260423T185158
CREATED:20180301T164537Z
LAST-MODIFIED:20180301T164537Z
UID:703-1524938400-1524938400@seattleoperaguild.org
SUMMARY:Aida: Magnolia/Queen Anne Preview Group
DESCRIPTION:Aida by Giuseppe Verdi \nArrival: 6:00pm\nProgram: 8:00pm\n  \nPlease RSVP to Alecia Rossano at 206.284.7556 of aleciarossano@gmail.com or Florence Rose Thompson at 206.915.7829 or ffrose@comcast.net. \nFor last-minute driving directions\, please call 206.284.0055.
URL:https://seattleoperaguild.org/calendar/aida-magnolia-queen-anne/
LOCATION:WA
CATEGORIES:Preview Group
END:VEVENT
BEGIN:VEVENT
DTSTART;TZID=America/Los_Angeles:20180428T163000
DTEND;TZID=America/Los_Angeles:20180428T163000
DTSTAMP:20260423T185158
CREATED:20180301T164142Z
LAST-MODIFIED:20180301T164142Z
UID:697-1524933000-1524933000@seattleoperaguild.org
SUMMARY:Aida: Allegro and Mercer Island
DESCRIPTION:Aida by Giuseppe Verdi \nSuggested Arrival Time: 4:30pm\nSocial: 5:00pm\nProgram: 5:30pm\nDinner: 6:30pm\n  \nPlease RSVP to Sigrid Hokanson at 206.232.7696 or Gayle Charlesworth at 253.639.1423 or gaylewings@gmail.com. \nParking Available in garage across the street from Aljoya at 2441 76th Ave SE
URL:https://seattleoperaguild.org/calendar/aida-allegro-mercer-island/
LOCATION:WA
CATEGORIES:Preview Group
END:VEVENT
BEGIN:VEVENT
DTSTART;TZID=America/Los_Angeles:20180427T183000
DTEND;TZID=America/Los_Angeles:20180427T183000
DTSTAMP:20260423T185158
CREATED:20180301T163706Z
LAST-MODIFIED:20180301T163706Z
UID:691-1524853800-1524853800@seattleoperaguild.org
SUMMARY:Aida: Parties and Previews
DESCRIPTION:Aida by Giuseppe Verdi \nSocial: 6:30pm\nDinner: 7:30pm\nProgram: 8:30pm\n  \nPlease RSVP to Sandra Boyd at 425.450.0671 or Emily Mattson at 206.920.0588. \nFor last-minute driving directions\, please call Lesa and Matt Sroufe at 206.795.2190.
URL:https://seattleoperaguild.org/calendar/aida-parties-previews/
LOCATION:WA
CATEGORIES:Preview Group
END:VEVENT
BEGIN:VEVENT
DTSTART;TZID=America/Los_Angeles:20180422T154500
DTEND;TZID=America/Los_Angeles:20180422T154500
DTSTAMP:20260423T185158
CREATED:20180301T163247Z
LAST-MODIFIED:20180301T163247Z
UID:687-1524411900-1524411900@seattleoperaguild.org
SUMMARY:Aida: Bellini and Vivace
DESCRIPTION:Aida by Giuseppe Verdi \nArrival: 3:45pm (appetizers and no host bar)\nProgram: 5:00pm\nBuffet: 6:00pm\n  \nPlease RSVP to Sally Buckingham at 425.293.4510 or sally.buckingham21@gmail.com. \nFor last-minute driving directions\, please call the hostess\, Emily Bennett\, at 425.488.8800.
URL:https://seattleoperaguild.org/calendar/aida-bellini-vivace/
LOCATION:WA
CATEGORIES:Preview Group
END:VEVENT
BEGIN:VEVENT
DTSTART;TZID=America/Los_Angeles:20180421T164500
DTEND;TZID=America/Los_Angeles:20180421T164500
DTSTAMP:20260423T185158
CREATED:20180301T162749Z
LAST-MODIFIED:20180301T162749Z
UID:681-1524329100-1524329100@seattleoperaguild.org
SUMMARY:Aida: Amici
DESCRIPTION:Aida by Giuseppe Verdi \nArrival: 4:45pm\nBusiness Meeting: 5:00pm\nProgram: 5:30pm\nDinner and Fundraiser: 6:30pm\n  \nPlease RSVP to Maria Van Horn at 206.354.9132 or mcvho4@yahoo.com. \nFor last-minute driving directions\, please call Christine Riley at 206.972.8124.
URL:https://seattleoperaguild.org/calendar/aida-amici/
LOCATION:WA
CATEGORIES:Preview Group
END:VEVENT
END:VCALENDAR