BEGIN:VCALENDAR
VERSION:2.0
PRODID:-//Seattle Opera Guild - ECPv6.15.20//NONSGML v1.0//EN
CALSCALE:GREGORIAN
METHOD:PUBLISH
X-WR-CALNAME:Seattle Opera Guild
X-ORIGINAL-URL:https://seattleoperaguild.org
X-WR-CALDESC:Events for Seattle Opera Guild
REFRESH-INTERVAL;VALUE=DURATION:PT1H
X-Robots-Tag:noindex
X-PUBLISHED-TTL:PT1H
BEGIN:VTIMEZONE
TZID:America/Los_Angeles
BEGIN:DAYLIGHT
TZOFFSETFROM:-0800
TZOFFSETTO:-0700
TZNAME:PDT
DTSTART:20240310T100000
END:DAYLIGHT
BEGIN:STANDARD
TZOFFSETFROM:-0700
TZOFFSETTO:-0800
TZNAME:PST
DTSTART:20241103T090000
END:STANDARD
BEGIN:DAYLIGHT
TZOFFSETFROM:-0800
TZOFFSETTO:-0700
TZNAME:PDT
DTSTART:20250309T100000
END:DAYLIGHT
BEGIN:STANDARD
TZOFFSETFROM:-0700
TZOFFSETTO:-0800
TZNAME:PST
DTSTART:20251102T090000
END:STANDARD
BEGIN:DAYLIGHT
TZOFFSETFROM:-0800
TZOFFSETTO:-0700
TZNAME:PDT
DTSTART:20260308T100000
END:DAYLIGHT
BEGIN:STANDARD
TZOFFSETFROM:-0700
TZOFFSETTO:-0800
TZNAME:PST
DTSTART:20261101T090000
END:STANDARD
END:VTIMEZONE
BEGIN:VEVENT
DTSTART;VALUE=DATE:20250424
DTEND;VALUE=DATE:20250425
DTSTAMP:20260424T102623
CREATED:20241016T202638Z
LAST-MODIFIED:20241016T202702Z
UID:19778-1745452800-1745539199@seattleoperaguild.org
SUMMARY:Preview Party: Puccini’s Tosca and Fundraiser for Singers’ Development Fund
DESCRIPTION:Time and location TBD
URL:https://seattleoperaguild.org/calendar/tosca-preview/
LOCATION:WA
CATEGORIES:Preview Group,SOG Event
END:VEVENT
BEGIN:VEVENT
DTSTART;TZID=America/Los_Angeles:20250424T173000
DTEND;TZID=America/Los_Angeles:20250424T200000
DTSTAMP:20260424T102623
CREATED:20250404T013326Z
LAST-MODIFIED:20250423T073029Z
UID:19927-1745515800-1745524800@seattleoperaguild.org
SUMMARY:“Vissi d’Arte” – Tosca preview & fundraiser
DESCRIPTION:Seattle Opera Guild cordially invites you to “Vissi d’Arte” Tosca preview & fundraiser!\nApril 24th\, 2025\n5:30 – 8:00 pm \nColumbia Tower Club\n701 5th Ave\, 75th floor\nSeattle\, WA 98104 \n\nMusic\, song and Tosca stories\nA variety of delicious appetizers\nComplimentary wine & non-alcoholic beverages\nNo-host bar for cocktails\n\nFeatured Artists:\nMalinda Wagstaff as Tosca\nMichael Nim as Cavaradossi\nMauro Bonfanti as Scarpia\nJohn Burkhardt\, piano \n$100 for Guild members\n$125 for Guests and Friends\nRSVP by April 18th\, 2025 \nTickets \nParking $10.00\, Columbia Tower flat rate after 5 PM.\nWe encourage carpooling.
URL:https://seattleoperaguild.org/calendar/tosca-preview-2025/
LOCATION:The Columbia Tower Club\, 701 5th Avenue\, 75th Floor\, Seattle\, WA\, 98101\, United States
CATEGORIES:Preview Group,SOG Event
ATTACH;FMTTYPE=image/png:https://seattleoperaguild.org/wp-content/uploads/2025/04/Art.Tosca_.png
END:VEVENT
END:VCALENDAR