BEGIN:VCALENDAR
VERSION:2.0
PRODID:-//Seattle Opera Guild - ECPv6.15.20//NONSGML v1.0//EN
CALSCALE:GREGORIAN
METHOD:PUBLISH
X-WR-CALNAME:Seattle Opera Guild
X-ORIGINAL-URL:https://seattleoperaguild.org
X-WR-CALDESC:Events for Seattle Opera Guild
REFRESH-INTERVAL;VALUE=DURATION:PT1H
X-Robots-Tag:noindex
X-PUBLISHED-TTL:PT1H
BEGIN:VTIMEZONE
TZID:America/Los_Angeles
BEGIN:DAYLIGHT
TZOFFSETFROM:-0800
TZOFFSETTO:-0700
TZNAME:PDT
DTSTART:20240310T100000
END:DAYLIGHT
BEGIN:STANDARD
TZOFFSETFROM:-0700
TZOFFSETTO:-0800
TZNAME:PST
DTSTART:20241103T090000
END:STANDARD
BEGIN:DAYLIGHT
TZOFFSETFROM:-0800
TZOFFSETTO:-0700
TZNAME:PDT
DTSTART:20250309T100000
END:DAYLIGHT
BEGIN:STANDARD
TZOFFSETFROM:-0700
TZOFFSETTO:-0800
TZNAME:PST
DTSTART:20251102T090000
END:STANDARD
BEGIN:DAYLIGHT
TZOFFSETFROM:-0800
TZOFFSETTO:-0700
TZNAME:PDT
DTSTART:20260308T100000
END:DAYLIGHT
BEGIN:STANDARD
TZOFFSETFROM:-0700
TZOFFSETTO:-0800
TZNAME:PST
DTSTART:20261101T090000
END:STANDARD
END:VTIMEZONE
BEGIN:VEVENT
DTSTART;TZID=America/Los_Angeles:20250529T150000
DTEND;TZID=America/Los_Angeles:20250529T180000
DTSTAMP:20260424T090726
CREATED:20250513T205149Z
LAST-MODIFIED:20250513T212809Z
UID:20048-1748530800-1748541600@seattleoperaguild.org
SUMMARY:Singers Development Fund Competition
DESCRIPTION:~ Free of charge · Donations accepted ~\nBring friends and your listening ears for an afternoon\nof music from these emerging artists! \nOur Finalists \n3:15 Anjani Briggs\, Soprano (Pianist\, Elizabeth Moore) \n3:30 Anthony Nguyen\, tenor \n3:45 Aurélièn Mangwa\, baritone \n4:00 Emma Peterson\, soprano \n4:15 INTERMISSION \n4:30 Lawrence Barasa\, tenor \n4:45 Sophia Emanuel\, soprano \n5:00 Rosamund Dyer\, mezzo-soprano \n5:15 Theodora Cottarel\, soprano \nOur Panel of Judges: \nMitchell Kahn\, Pacific Northwest Opera \nKsenia Popova\, Opera on Tap \nLimuel Forgey\, Tacoma Opera \nSOG’s 2025 Official Accompanist is Luke Raffanti.
URL:https://seattleoperaguild.org/calendar/singers-development-fund-competition/
LOCATION:Tagney Jones Hall at the Seattle Opera Center\, 363 Mercer Street\, Seattle\, WA\, 98109\, United States
CATEGORIES:SOG Event
END:VEVENT
END:VCALENDAR