BEGIN:VCALENDAR
VERSION:2.0
PRODID:-//Seattle Opera Guild - ECPv6.15.20//NONSGML v1.0//EN
CALSCALE:GREGORIAN
METHOD:PUBLISH
X-ORIGINAL-URL:https://seattleoperaguild.org
X-WR-CALDESC:Events for Seattle Opera Guild
REFRESH-INTERVAL;VALUE=DURATION:PT1H
X-Robots-Tag:noindex
X-PUBLISHED-TTL:PT1H
BEGIN:VTIMEZONE
TZID:America/Los_Angeles
BEGIN:DAYLIGHT
TZOFFSETFROM:-0800
TZOFFSETTO:-0700
TZNAME:PDT
DTSTART:20240310T100000
END:DAYLIGHT
BEGIN:STANDARD
TZOFFSETFROM:-0700
TZOFFSETTO:-0800
TZNAME:PST
DTSTART:20241103T090000
END:STANDARD
BEGIN:DAYLIGHT
TZOFFSETFROM:-0800
TZOFFSETTO:-0700
TZNAME:PDT
DTSTART:20250309T100000
END:DAYLIGHT
BEGIN:STANDARD
TZOFFSETFROM:-0700
TZOFFSETTO:-0800
TZNAME:PST
DTSTART:20251102T090000
END:STANDARD
BEGIN:DAYLIGHT
TZOFFSETFROM:-0800
TZOFFSETTO:-0700
TZNAME:PDT
DTSTART:20260308T100000
END:DAYLIGHT
BEGIN:STANDARD
TZOFFSETFROM:-0700
TZOFFSETTO:-0800
TZNAME:PST
DTSTART:20261101T090000
END:STANDARD
END:VTIMEZONE
BEGIN:VEVENT
DTSTART;TZID=America/Los_Angeles:20250819T100000
DTEND;TZID=America/Los_Angeles:20250819T130000
DTSTAMP:20260424T044217
CREATED:20250708T194223Z
LAST-MODIFIED:20250730T231759Z
UID:20122-1755597600-1755608400@seattleoperaguild.org
SUMMARY:Café Cantata
DESCRIPTION:Seattle Opera and the Seattle Opera Guild cordially invite you to the second “Café Cantata”! A casual gathering of supporters of the arts in Seattle. \nTuesday\, August 19\, 2025\n10 a.m.– 1 p.m. \nDrop In for Free Coffee\, Confectionery\, and Conversation at Seattle Opera Center\, 363 Mercer St.\, Seattle\, WA. \nRSVP by August 18
URL:https://seattleoperaguild.org/calendar/cafe-cantata/
LOCATION:Tagney Jones Hall at the Seattle Opera Center\, 363 Mercer Street\, Seattle\, WA\, 98109\, United States
CATEGORIES:Opera Event in the Region,SOG Event
ATTACH;FMTTYPE=image/jpeg:https://seattleoperaguild.org/wp-content/uploads/2025/07/Screenshot-2025-07-08-at-4.22.34 PM.jpg
END:VEVENT
END:VCALENDAR