BEGIN:VCALENDAR
VERSION:2.0
PRODID:-//Seattle Opera Guild - ECPv6.15.20//NONSGML v1.0//EN
CALSCALE:GREGORIAN
METHOD:PUBLISH
X-ORIGINAL-URL:https://seattleoperaguild.org
X-WR-CALDESC:Events for Seattle Opera Guild
REFRESH-INTERVAL;VALUE=DURATION:PT1H
X-Robots-Tag:noindex
X-PUBLISHED-TTL:PT1H
BEGIN:VTIMEZONE
TZID:America/Los_Angeles
BEGIN:DAYLIGHT
TZOFFSETFROM:-0800
TZOFFSETTO:-0700
TZNAME:PDT
DTSTART:20160313T100000
END:DAYLIGHT
BEGIN:STANDARD
TZOFFSETFROM:-0700
TZOFFSETTO:-0800
TZNAME:PST
DTSTART:20161106T090000
END:STANDARD
BEGIN:DAYLIGHT
TZOFFSETFROM:-0800
TZOFFSETTO:-0700
TZNAME:PDT
DTSTART:20170312T100000
END:DAYLIGHT
BEGIN:STANDARD
TZOFFSETFROM:-0700
TZOFFSETTO:-0800
TZNAME:PST
DTSTART:20171105T090000
END:STANDARD
BEGIN:DAYLIGHT
TZOFFSETFROM:-0800
TZOFFSETTO:-0700
TZNAME:PDT
DTSTART:20180311T100000
END:DAYLIGHT
BEGIN:STANDARD
TZOFFSETFROM:-0700
TZOFFSETTO:-0800
TZNAME:PST
DTSTART:20181104T090000
END:STANDARD
BEGIN:DAYLIGHT
TZOFFSETFROM:-0800
TZOFFSETTO:-0700
TZNAME:PDT
DTSTART:20190310T100000
END:DAYLIGHT
BEGIN:STANDARD
TZOFFSETFROM:-0700
TZOFFSETTO:-0800
TZNAME:PST
DTSTART:20191103T090000
END:STANDARD
BEGIN:DAYLIGHT
TZOFFSETFROM:-0800
TZOFFSETTO:-0700
TZNAME:PDT
DTSTART:20200308T100000
END:DAYLIGHT
BEGIN:STANDARD
TZOFFSETFROM:-0700
TZOFFSETTO:-0800
TZNAME:PST
DTSTART:20201101T090000
END:STANDARD
BEGIN:DAYLIGHT
TZOFFSETFROM:-0800
TZOFFSETTO:-0700
TZNAME:PDT
DTSTART:20210314T100000
END:DAYLIGHT
BEGIN:STANDARD
TZOFFSETFROM:-0700
TZOFFSETTO:-0800
TZNAME:PST
DTSTART:20211107T090000
END:STANDARD
BEGIN:DAYLIGHT
TZOFFSETFROM:-0800
TZOFFSETTO:-0700
TZNAME:PDT
DTSTART:20220313T100000
END:DAYLIGHT
BEGIN:STANDARD
TZOFFSETFROM:-0700
TZOFFSETTO:-0800
TZNAME:PST
DTSTART:20221106T090000
END:STANDARD
END:VTIMEZONE
BEGIN:VEVENT
DTSTART;TZID=America/Los_Angeles:20210916T130000
DTEND;TZID=America/Los_Angeles:20210916T150000
DTSTAMP:20260423T204711
CREATED:20210610T233346Z
LAST-MODIFIED:20210610T233747Z
UID:16640-1631797200-1631804400@seattleoperaguild.org
SUMMARY:SOG Singers’ Development Auditions
DESCRIPTION:
URL:https://seattleoperaguild.org/calendar/sog-singers-development-auditions/
LOCATION:Tagney Jones Hall at the Opera Center\, 363 Mercer St.\, Seattle\, WA\, 98109\, United States
CATEGORIES:SOG Event
END:VEVENT
BEGIN:VEVENT
DTSTART;TZID=America/Los_Angeles:20210812T110000
DTEND;TZID=America/Los_Angeles:20210812T143000
DTSTAMP:20260423T204711
CREATED:20210715T002657Z
LAST-MODIFIED:20210715T002657Z
UID:16671-1628766000-1628778600@seattleoperaguild.org
SUMMARY:63rd Annual Meeting & Luncheon
DESCRIPTION:You are cordially invited to attend our 63rd Annual Meeting & Luncheon on Thursday\, August 12\, 2021\, 11:00 am – 2:30 pm. We will meet at the Seattle Yacht Club (1807 East Hamlin Street\, Seattle\, WA 98112). \nEvent details and RSVP form may be found here. \nEntertainment by Lindsey Nakatani\, soprano and Aria Minasian\, mezzo-soprano and accompanied by Elisabeth Ellis. \nProposed Slate of Officers: \nPresident: Suzy Mygatt Wakefield\nVP Membership Services\, Immediate Past President: Gayle Charlesworth\nTreasurer: Sally Buckingham\nVP Communications: Judi Kalitzki\nVP Administrative Services: Danielle Gaines\nVP Education: Christine Szabadi\nVP Special Events: Patricia Pavia\nSecretary: Mary Scott\nSOG Trustee: Roberta Lyon\nOfficer at Large: Brenna Pink Pampena \nFor information call Patricia D. Pavia at 203.414.3083 or pdpavia41@gmail.com  \nPlease download\, complete\, and mail a reservation form. $55 per member\, $50 per guest. Payment can be made by enclosing a check with your RSVP form or by paying online.
URL:https://seattleoperaguild.org/calendar/63rd-annual-meeting-luncheon/
LOCATION:Seattle Yacht Club\, 1807 E Hamlin St\, Seattle\, WA\, 98112\, United States
CATEGORIES:SOG Event
ATTACH;FMTTYPE=image/png:https://seattleoperaguild.org/wp-content/uploads/2021/07/Screen-Shot-2021-07-14-at-8.22.59-PM.png
END:VEVENT
BEGIN:VEVENT
DTSTART;VALUE=DATE:20191213
DTEND;VALUE=DATE:20191214
DTSTAMP:20260423T204711
CREATED:20190129T004706Z
LAST-MODIFIED:20190129T004706Z
UID:1269-1576195200-1576281599@seattleoperaguild.org
SUMMARY:Holiday Luncheon
DESCRIPTION:At the Seattle Tennis Club
URL:https://seattleoperaguild.org/calendar/holiday-luncheon-2019/
LOCATION:WA
CATEGORIES:SOG Event
END:VEVENT
BEGIN:VEVENT
DTSTART;VALUE=DATE:20190620
DTEND;VALUE=DATE:20190621
DTSTAMP:20260423T204711
CREATED:20181204T172246Z
LAST-MODIFIED:20181204T172246Z
UID:1227-1560988800-1561075199@seattleoperaguild.org
SUMMARY:SOG Annual Meeting
DESCRIPTION:At the Seattle Yacht Club
URL:https://seattleoperaguild.org/calendar/sog-annual-meeting/
LOCATION:WA
CATEGORIES:SOG Event
END:VEVENT
BEGIN:VEVENT
DTSTART;VALUE=DATE:20190410
DTEND;VALUE=DATE:20190411
DTSTAMP:20260423T204711
CREATED:20190215T203523Z
LAST-MODIFIED:20190215T203523Z
UID:1281-1554854400-1554940799@seattleoperaguild.org
SUMMARY:SOG Spring Fundraiser
DESCRIPTION:“Songs About Spring” recital by Nerys Jones & Tim Barrick\, tea and tour of new Opera Center.
URL:https://seattleoperaguild.org/calendar/sog-spring-fundraiser/
LOCATION:WA
CATEGORIES:SOG Event
END:VEVENT
BEGIN:VEVENT
DTSTART;TZID=America/Los_Angeles:20190406T190000
DTEND;TZID=America/Los_Angeles:20190406T190000
DTSTAMP:20260423T204711
CREATED:20181029T133224Z
LAST-MODIFIED:20181029T133224Z
UID:1174-1554577200-1554577200@seattleoperaguild.org
SUMMARY:Singers’ Development Awards Competition
DESCRIPTION:
URL:https://seattleoperaguild.org/calendar/sda-competition/
LOCATION:WA
CATEGORIES:SOG Event
END:VEVENT
BEGIN:VEVENT
DTSTART;TZID=America/Los_Angeles:20181207T110000
DTEND;TZID=America/Los_Angeles:20181207T110000
DTSTAMP:20260423T204711
CREATED:20180219T170400Z
LAST-MODIFIED:20180219T170400Z
UID:670-1544180400-1544180400@seattleoperaguild.org
SUMMARY:Holiday Luncheon
DESCRIPTION:Featuring performances by Merideth Marano\, soprano; Elizabeth Galata\, mezzo soprano; and Lisa Bergman\, accompanist.
URL:https://seattleoperaguild.org/calendar/holiday-luncheon-2018/
LOCATION:WA
CATEGORIES:SOG Event
END:VEVENT
BEGIN:VEVENT
DTSTART;TZID=America/Los_Angeles:20180623T140000
DTEND;TZID=America/Los_Angeles:20180623T173000
DTSTAMP:20260423T204711
CREATED:20180411T020939Z
LAST-MODIFIED:20180411T020939Z
UID:832-1529762400-1529775000@seattleoperaguild.org
SUMMARY:Summertime!
DESCRIPTION:A Musical Preview by Seattle Opera’s Porgy and Bess Performers:\n• Ibidunni Ojikutu\n• Cheryse McLeod Lewis\n• Dierre Lopez\n• Li-Tan Hsu \n  \nSkyline at First Hill (725 9th Ave\, Seattle) \n• Reception in the SkyClub with Panoramic Views \n• Wine and Hors d’Oeuvres \n• Musical Preview \n• Free Valet Parking \n  \nSpace is limited: RSVP by June 13th with a check mailed to:\nNick Elder\n11905 Stendall Place North\nSeattle\, WA 98133 \nOr RSVP using the form below: \n  \n\n\n\n\nAll About Love Opera Party Payment\n\n\n\n\n\n\n\n\n    Your Name\n        *\n    \n    \n    \n    \n\n\n    Your Phone Number\n        \n    \n    \n    \n    \n\n\n    Your Email Address\n        \n    \n    \n    \n    \n\n\n    Number of Attendees\n        *\n    \n    \n    $45/guest\n    \n\n\n    Additional Donation (optional)\n        \n    \n    \n    I would like to support the Seattle Opera Guild with an additional tax-deductible donation.\n    \n\n\n    Total\n        \n    \n    $\n    \n    \n\n	\n			\n			\n				If you are human\, leave this field blank.			\n			\n		\n		\n\nSubmit
URL:https://seattleoperaguild.org/calendar/summertime/
LOCATION:WA
CATEGORIES:Preview Group,SOG Event
END:VEVENT
BEGIN:VEVENT
DTSTART;VALUE=DATE:20180607
DTEND;VALUE=DATE:20180608
DTSTAMP:20260423T204711
CREATED:20171202T193240Z
LAST-MODIFIED:20171202T193240Z
UID:462-1528329600-1528415999@seattleoperaguild.org
SUMMARY:Annual Meeting
DESCRIPTION:
URL:https://seattleoperaguild.org/calendar/annual-meeting/
LOCATION:WA
CATEGORIES:SOG Event
END:VEVENT
BEGIN:VEVENT
DTSTART;TZID=America/Los_Angeles:20180520T150000
DTEND;TZID=America/Los_Angeles:20180520T170000
DTSTAMP:20260423T204711
CREATED:20180206T020928Z
LAST-MODIFIED:20180206T020928Z
UID:648-1526828400-1526835600@seattleoperaguild.org
SUMMARY:Recital by SOG singers at SOMA Towers in Bellevue
DESCRIPTION:P&P and Bellini will hold a fundraiser in the Resonance at SOMA Towers in Bellevue. Several winners of our SOG singers’ competitions will perform. Plan to attend and bring a friend—this is a wonderful opportunity to encourage our young singers and spread the word about SOG’s support of operatic training!
URL:https://seattleoperaguild.org/calendar/sda-recital/
LOCATION:WA
CATEGORIES:SOG Event
END:VEVENT
BEGIN:VEVENT
DTSTART;TZID=America/Los_Angeles:20180520T150000
DTEND;TZID=America/Los_Angeles:20180520T150000
DTSTAMP:20260423T204711
CREATED:20180411T014907Z
LAST-MODIFIED:20180411T014907Z
UID:813-1526828400-1526828400@seattleoperaguild.org
SUMMARY:Much Ado About Music
DESCRIPTION:Presented by preview groups Parties & Previews and Bellini. \nShowcasing Seattle Opera Guild scholarship singers Rachelle Moss\, Ksenia Popova\, Ibidunni Ojkutu\, and Charles Robert Stephens at Resonance at SOMA Towers (288 106th Avenue NE\, Suite 203 in Bellevue.) \n  \nMenu: Tea sandwiches\, chicken skewers\, fruit sticks\, fine cheeses and crackers\, grapes\, brownies and lemon bars with wine\, sparkling waters\, and punch. Complimentary Parking. \n  \n3:00 p.m. Social (Meet and mix with the singers) \n4:00 p.m. Program (Inspired by Shakespeare) \n  \nPlease RSVP by May 14 using the form below\, or by mailing a check to Sally Buckingham at:\nPO Box 5745\nLynnwood\, WA 98046 \n\n\n\n\nAnnual Holiday Luncheon RSVP\n\n\n\n\n\n\n\n\n    Member Name ($60)\n        \n    \n    \n    \n    \n\n\n    Meal\n        \n    \n    					\n					 Roasted Chicken w/ Pesto Rice Pilaf and Toasted Vegetables (GF)\n					\n					 Roasted Cauliflower w/ Garlic\, Parmesan and Tomato Confit (Veg)\n\n    \n    \n\n\n    Member Name ($60)\n        \n    \n    \n    \n    \n\n\n    Meal\n        \n    \n    					\n					 Roasted Chicken w/ Pesto Rice Pilaf and Toasted Vegetables (GF)\n					\n					 Roasted Cauliflower w/ Garlic\, Parmesan and Tomato Confit (Veg)\n\n    \n    \n\n\n    Guest Name ($55)\n        \n    \n    \n    \n    \n\n\n    Meal\n        \n    \n    					\n					 Roasted Chicken w/ Pesto Rice Pilaf and Toasted Vegetables (GF)\n					\n					 Roasted Cauliflower w/ Garlic\, Parmesan and Tomato Confit (Veg)\n\n    \n    \n\n\n    Guest Name ($55)\n        \n    \n    \n    \n    \n\n\n    Meal\n        \n    \n    					\n					 Roasted Chicken w/ Pesto Rice Pilaf and Toasted Vegetables (GF)\n					\n					 Roasted Cauliflower w/ Garlic\, Parmesan and Tomato Confit (Veg)\n\n    \n    \n\n\n    Your Phone Number\n        \n    \n    \n    \n    \n\n\n    Your Email Address\n        \n    \n    \n    \n    \n\n\nPayment\n\n\n\n    Ticket Price\n        *\n    \n    $\n    $60 for each member\, $55 for each guest\n    \n\n\n    # of Raffle Tickets (optional)\n        \n    \n    \n    Enter our raffle for a $100 Amazon Gift Card. $10/ticket. (Need not be present to win)\n    \n\n\n    Raffle Ticket Price\n        \n    \n     $\n    \n    \n\n\n    Donation (optional)\n        \n    \n    $\n    I am unable to attend but would like to support the Seattle Opera Guild with a tax-deductible donation\n    \n\n\n\nTotal Payment\n\n\n\n    Total\n        \n    \n    $\n    \n    \n\n\n	\n			\n			\n				If you are human\, leave this field blank.			\n			\n		\n		\n\nSubmit\n\n\n\n\n\n\n\n\n  \nQuestions? Please call Sally Buckingham at 425-293-4510
URL:https://seattleoperaguild.org/calendar/much-ado-about-music/
LOCATION:WA
CATEGORIES:Preview Group,SOG Event
END:VEVENT
BEGIN:VEVENT
DTSTART;TZID=America/Los_Angeles:20180504T190000
DTEND;TZID=America/Los_Angeles:20180504T190000
DTSTAMP:20260423T204711
CREATED:20180219T170316Z
LAST-MODIFIED:20180219T170316Z
UID:667-1525460400-1525460400@seattleoperaguild.org
SUMMARY:Singers Development Award Finalist Auditions
DESCRIPTION:Contact: Christine Szabadi at caszabadi@gmail.com
URL:https://seattleoperaguild.org/calendar/sda-finalist-auditions/
LOCATION:WA
CATEGORIES:SOG Event
END:VEVENT
BEGIN:VEVENT
DTSTART;VALUE=DATE:20180428
DTEND;VALUE=DATE:20180429
DTSTAMP:20260423T204711
CREATED:20180219T165849Z
LAST-MODIFIED:20180219T165849Z
UID:663-1524873600-1524959999@seattleoperaguild.org
SUMMARY:Mercer Island and Allegro Fundraising Dinner
DESCRIPTION:
URL:https://seattleoperaguild.org/calendar/fundraising-dinner/
LOCATION:WA
CATEGORIES:SOG Event
END:VEVENT
BEGIN:VEVENT
DTSTART;VALUE=DATE:20180422
DTEND;VALUE=DATE:20180423
DTSTAMP:20260423T204711
CREATED:20180219T165728Z
LAST-MODIFIED:20180219T165728Z
UID:660-1524355200-1524441599@seattleoperaguild.org
SUMMARY:Bellini and Vivace Fundraiser
DESCRIPTION:
URL:https://seattleoperaguild.org/calendar/bellini-vivace-fundraiser/
LOCATION:WA
CATEGORIES:SOG Event
END:VEVENT
BEGIN:VEVENT
DTSTART;TZID=America/Los_Angeles:20171208T110000
DTEND;TZID=America/Los_Angeles:20171208T143000
DTSTAMP:20260423T204711
CREATED:20171027T152756Z
LAST-MODIFIED:20171027T152756Z
UID:183-1512730800-1512743400@seattleoperaguild.org
SUMMARY:Holiday Luncheon
DESCRIPTION:The Seattle Opera Guild invites you to attend our Annual Holiday Luncheon! \n\n\n\n\n11:00 am: Social Hour – No Host Cocktails\n12:00 pm: Luncheon (Open Seating) – Chicken or Vegetarian Entrée\n1:15 pm: Entertainment & Raffle Drawings \nEntertainment provided by 2017 SOG Singer’s Development Grant Winners:\nIbidunni Ojikutu (soprano)\, Kwangsuk Ku (baritone)\, Lucy Weber (mezzo-soprano) with pianist Lisa Bergman. \nRSVP and Pay by Mail\nRSVP and Pay Online\nRSVP by December 4. SOG Members; $65 / Guests $50 \nFor information contact Penny Wade at 206-938-5949 or penny.wade@comcast.net
URL:https://seattleoperaguild.org/calendar/holiday-luncheon/
LOCATION:WA
CATEGORIES:SOG Event
END:VEVENT
END:VCALENDAR